BEGIN:VCALENDAR
VERSION:2.0
PRODID:-//Jazz-Initiative Eifel e. V.//NONSGML kigkonsult.se iCalcreator 2.41.92//
CALSCALE:GREGORIAN
METHOD:PUBLISH
UID:31643039-3135-4136-b531-653537643830
X-WR-CALNAME:iCagenda
X-WR-CALDESC:Event Management Extension for Joomla!
X-WR-RELCALID:3E26604A-50F4-4449-8B3E-E4F4932D05B5
X-WR-TIMEZONE:UTC
BEGIN:VTIMEZONE
TZID:UTC
END:VTIMEZONE
BEGIN:VEVENT
UID:34336637-3330-4631-a465-653434396361
DTSTAMP:20260420T164929Z
CATEGORIES:Matinee
CLASS:PUBLIC
DESCRIPTION;ALTREP="CID:<FFFF__=0ABBE548DFE235B58f9e8a93d@coffeebean.com>":
 Operation Tandem ( Köln )\nBernd Lechtenfeld – PosauneRobert Mensebach – a
 kk. Gitarre\nDer 100. Geburtstag von Leonard Bernstein ( 1918-1990 ) ist G
 rund genug\, an eines der großen Musikgenies des 20. Jahrhundert zu erinne
 rn.Die West Side Story bietet besoders den Jazzmusikern harmonisch und rhy
 thmische Vielfalt. Bernstein war selbst ein großer Jazzfan \, hat er sogar
  in den 50iger Jahren Konzerte mit Orchester &amp\; Jazzband für Kinder or
 ganisiert und moderiert.Die progressiven Jazzeinflüsse\, gepaart mit den w
 underbaren Melodien Bernsteins werden von Operation Tandem so bearbeitet\,
 dass der Zuhörer alle Melodien wie gewohnt genießen kann.Jedoch: Rhythmen\
 , Harmonien und Tempi der Stücke \, angefangen von „Somewhere“ bis „Amerik
 a“ werden oft unaufdringlich verändert und somit gelingt es dem Duo dem Hö
 rer Neues zu bieten. Die Rollen im Duo selbst werden immer wieder getausch
 t\, d.h. auch der Posaunist spielt Bässe und Akkorde\, übernimmt also den 
 Groove-Part.Operation Tandem feiert 2018 ihr 25.jähriges Bestehen\, also n
 och'n Grund zum Feiern
DTSTART:20181104T110000Z
DTEND:20181104T110000Z
GEO:00;0
LOCATION:faberludens\, 54578 Nohn\, Schulstr. 1
ORGANIZER;CN=:mailto:mail@faberludens.de
SEQUENCE:1
SUMMARY:Operation Tandem
TRANSP:OPAQUE
URL:http://jazztaxi.de/alle-termine/57-operation-tandem/2018-11-04-11-00
END:VEVENT
END:VCALENDAR
