BEGIN:VCALENDAR
VERSION:2.0
PRODID:-//Jazz-Initiative Eifel e. V.//NONSGML kigkonsult.se iCalcreator 2.41.92//
CALSCALE:GREGORIAN
METHOD:PUBLISH
UID:37346665-3531-4238-a637-363837313532
X-WR-CALNAME:iCagenda
X-WR-CALDESC:Event Management Extension for Joomla!
X-WR-RELCALID:3E26604A-50F4-4449-8B3E-E4F4932D05B5
X-WR-TIMEZONE:UTC
BEGIN:VTIMEZONE
TZID:UTC
END:VTIMEZONE
BEGIN:VEVENT
UID:66303665-6666-4666-b164-333466376366
DTSTAMP:20260420T194345Z
CATEGORIES:Jazzclub im Prümer Brauhaus
CLASS:PUBLIC
DESCRIPTION;ALTREP="CID:<FFFF__=0ABBE548DFE235B58f9e8a93d@coffeebean.com>":
 Die energiegeladene regionale Band 'Jazzvitation'Jürgen Kill (sax)Alfons H
 ardt (b)Heiko Thurm (dr)Norbert Brenner (git)lädt zur Jamsession am Mittwo
 ch 8.1.25 um 20 Uhr ein.Freibier für die Musiker!
DTSTART:20250108T002000Z
DTEND:20250108T220000Z
GEO:00;0
LOCATION:Prümer Brauhaus
ORGANIZER;CN=:mailto:info@jazzei.de
SEQUENCE:1
SUMMARY:Jamsession mit JazzVitation im Brauhaus
TRANSP:OPAQUE
URL:http://jazztaxi.de/alle-termine/558-jamsession-mit-jazzvitation-im-brau
 haus
END:VEVENT
END:VCALENDAR
