BEGIN:VCALENDAR
VERSION:2.0
PRODID:-//Jazz-Initiative Eifel e. V.//NONSGML kigkonsult.se iCalcreator 2.41.92//
CALSCALE:GREGORIAN
METHOD:PUBLISH
UID:33326435-3561-4665-b036-613736383961
X-WR-CALNAME:iCagenda
X-WR-CALDESC:Event Management Extension for Joomla!
X-WR-RELCALID:3E26604A-50F4-4449-8B3E-E4F4932D05B5
X-WR-TIMEZONE:UTC
BEGIN:VTIMEZONE
TZID:UTC
END:VTIMEZONE
BEGIN:VEVENT
UID:39646636-3064-4732-a233-303938613438
DTSTAMP:20260420T194210Z
CATEGORIES:Allgemein
CLASS:PUBLIC
DESCRIPTION;ALTREP="CID:<FFFF__=0ABBE548DFE235B58f9e8a93d@coffeebean.com>":
 Ein dynamischen Duo mit Kid Colling am Gesang und an der Gitarre und Jeff 
 Herr an der Percussion. Gemeinsam bieten sie eine mitreißende akustische M
 usikerfahrung\, die einfühlsame originale Kompositionen mit neu interpreti
 erten Rock- und Blues-Klassikern vermischt. Mit Kids kraftvoller Stimme un
 d meisterhaften Gitarrenriffs\, die den Klang vorantreiben\, und Jeffs rhy
 thmischer Finesse auf dem Cajón\, die Tiefe und Groove hinzufügt\, sind ih
 re Auftritte eine faszinierende Mischung aus roher Energie und raffinierte
 r Kunst. Ob bei herzergreifenden Originalen oder bei ihrer einzigartigen I
 nterpretation zeitloser Stücke\, Kid und Jeff schaffen eine unvergessliche
  musikalische Synergie\, die tief mit ihrem Publikum verbunden ist.\nBeset
 zung:\n\nKid Colling (Gesang\, Gitarre)\nJeff Herr (Percussion)\n\n\nIm Ra
 hmen von Bluebird Live @ Mont St-Lambert und in Zusammenarbeit mit Mont St
 -Lambert und Bluebird Music ASBL.
DTSTART:20250123T200000Z
DTEND:20250123T220000Z
GEO:00;0
LOCATION:Mont St-Lambert\, Luxemburg
ORGANIZER:
SEQUENCE:1
SUMMARY:Kid Colling & Jeff Herr
TRANSP:OPAQUE
URL:http://jazztaxi.de/alle-termine/557-kid-colling-jeff-herr/2025-01-23-20
 -00
END:VEVENT
END:VCALENDAR
