BEGIN:VCALENDAR
VERSION:2.0
PRODID:-//Jazz-Initiative Eifel e. V.//NONSGML kigkonsult.se iCalcreator 2.41.92//
CALSCALE:GREGORIAN
METHOD:PUBLISH
UID:37663062-3066-4565-a164-343632393664
X-WR-CALNAME:iCagenda
X-WR-CALDESC:Event Management Extension for Joomla!
X-WR-RELCALID:3E26604A-50F4-4449-8B3E-E4F4932D05B5
X-WR-TIMEZONE:UTC
BEGIN:VTIMEZONE
TZID:UTC
END:VTIMEZONE
BEGIN:VEVENT
UID:31633161-6139-4063-a464-376331653832
DTSTAMP:20260420T170843Z
CATEGORIES:Allgemein
CLASS:PUBLIC
DESCRIPTION;ALTREP="CID:<FFFF__=0ABBE548DFE235B58f9e8a93d@coffeebean.com>":
 Französische Akustik-Blues-Rock-Songs\, voller Humor\, Liebe und Freundsch
 aft! Und Lebensschnipsel !!\nBesetzung:\n\nPascal Karenbo (Gesang\, Gitarr
 e)\nPierre Collet (Gitarre)
DTSTART:20251019T110000Z
DTEND:20251019T121500Z
GEO:00;0
LOCATION:Collette Coffee Craft\, Vianden
ORGANIZER:
SEQUENCE:1
SUMMARY:Pascal Karenbo & Pierre Collet
TRANSP:OPAQUE
URL:http://jazztaxi.de/alle-termine/552-pascal-karenbo-pierre-collet/2025-1
 0-19-11-00
END:VEVENT
END:VCALENDAR
