BEGIN:VCALENDAR
VERSION:2.0
PRODID:-//Jazz-Initiative Eifel e. V.//NONSGML kigkonsult.se iCalcreator 2.41.92//
CALSCALE:GREGORIAN
METHOD:PUBLISH
UID:36636530-3631-4065-b633-356561626333
X-WR-CALNAME:iCagenda
X-WR-CALDESC:Event Management Extension for Joomla!
X-WR-RELCALID:3E26604A-50F4-4449-8B3E-E4F4932D05B5
X-WR-TIMEZONE:UTC
BEGIN:VTIMEZONE
TZID:UTC
END:VTIMEZONE
BEGIN:VEVENT
UID:35316166-3937-4237-b037-333462633834
DTSTAMP:20260420T165052Z
CATEGORIES:Allgemein
CLASS:PUBLIC
DESCRIPTION;ALTREP="CID:<FFFF__=0ABBE548DFE235B58f9e8a93d@coffeebean.com>":
 umasTBOP! ist ein 7-köpfiges\, gemischtes Vokal-Ensemble aus dem Raum Daun
 \, Gerolstein und Trier\, das sich gerne auch einmal von Piano und Percuss
 ion begleitet lässt.Sie singen einen bunten\, groovigen Mix aus den Bereic
 hen Jazz\, Pop\, Bossa Nova oder was ihnen sonst noch so gefällt - gerne a
 uch ein Volkslied in neuem Gewand...Einige von ihnen sind erfahrene Vollbl
 utmusiker\, andere singen schon seit vielen Jahren in verschiedenen Chören
  - was sie aber alle verbindet\, ist der Spaß am mehrstimmigen Gesang und 
 die Leidenschaft für Musik!&nbsp\;Eintritt frei!Organisatorische Leitung: 
 Ulrike KremerMusikalische Leitung: Christof Mann
DTSTART:20181020T190000Z
DTEND:20181020T190000Z
GEO:00;0
LOCATION:Dauner Weinladen
ORGANIZER;CN=:mailto:Dauner-Weinladen@t-online.de
SEQUENCE:1
SUMMARY:umasTBOP! A cappella Konzert
TRANSP:OPAQUE
URL:http://jazztaxi.de/alle-termine/55-umastbop-a-cappella-konzert/2018-10-
 20-19-00
END:VEVENT
END:VCALENDAR
