BEGIN:VCALENDAR
VERSION:2.0
PRODID:-//Jazz-Initiative Eifel e. V.//NONSGML kigkonsult.se iCalcreator 2.41.92//
CALSCALE:GREGORIAN
METHOD:PUBLISH
UID:33393536-6535-4038-a161-633463376661
X-WR-CALNAME:iCagenda
X-WR-CALDESC:Event Management Extension for Joomla!
X-WR-RELCALID:3E26604A-50F4-4449-8B3E-E4F4932D05B5
X-WR-TIMEZONE:UTC
BEGIN:VTIMEZONE
TZID:UTC
END:VTIMEZONE
BEGIN:VEVENT
UID:38626166-6233-4232-b631-386432616239
DTSTAMP:20260420T165131Z
CATEGORIES:Matinee
CLASS:PUBLIC
DESCRIPTION;ALTREP="CID:<FFFF__=0ABBE548DFE235B58f9e8a93d@coffeebean.com>":
 Martin Schulte/Henning Gailing Duo\nNach mittlerweile 3 CDs mit eigenen Ko
 mpositionen erfüllt sich Martin Schulte auf seiner neusten CD „Time Rememb
 ered - standards and other songs“ den lang gehegten Wunsch ein Album mit I
 nterpretationen von Stücken aus dem Great American Songbook einzuspielen.D
 ie CD erschien im Mai 2018 und begeisterte Publikum und Fachpresse gleiche
 rmaßen („…nichts weniger als das reine\, wahre Jazzgitarren-Glück“ JazzPod
 ium)In Nohn werden nun nur 2 Mitstreiter der CD zu hören sein\, Martin Sch
 ulte und Henning Gailing spielen ein Konzert im Duo\, und so verspricht es
  ein noch intimeres\, aber nicht weniger swingendes Konzert zu werden\, mi
 t traumhaften Balladen\, swingendem Bebop und auch ein paar Eigenkompositi
 onen.
DTSTART:20181007T110000Z
DTEND:20181007T110000Z
GEO:00;0
LOCATION:faberludens\, 54578 Nohn\, Schulstr. 1
ORGANIZER;CN=:mailto:info@faberludens.de
SEQUENCE:1
SUMMARY:Schulte/Gailing-Duo
TRANSP:OPAQUE
URL:http://jazztaxi.de/alle-termine/54-schulte-gailing-duo/2018-10-07-11-00
END:VEVENT
END:VCALENDAR
