BEGIN:VCALENDAR
VERSION:2.0
PRODID:-//Jazz-Initiative Eifel e. V.//NONSGML kigkonsult.se iCalcreator 2.41.92//
CALSCALE:GREGORIAN
METHOD:PUBLISH
UID:64376237-6266-4530-b563-383433633736
X-WR-CALNAME:iCagenda
X-WR-CALDESC:Event Management Extension for Joomla!
X-WR-RELCALID:3E26604A-50F4-4449-8B3E-E4F4932D05B5
X-WR-TIMEZONE:UTC
BEGIN:VTIMEZONE
TZID:UTC
END:VTIMEZONE
BEGIN:VEVENT
UID:37336530-3032-4532-b866-386561343835
DTSTAMP:20260420T221915Z
CATEGORIES:Allgemein
CLASS:PUBLIC
DESCRIPTION;ALTREP="CID:<FFFF__=0ABBE548DFE235B58f9e8a93d@coffeebean.com>":
 Die JAZZUNION e.V. veranstaltet am Samstag\, 30.11.2024 ab 21 Uhr das Live
 musik-Event »session eleven« und lädt musikinteressiertes Publikum sowie M
 usiker ein\, einen musikalisch kreativen Abend zu erleben bzw. mitzugestal
 ten. Eine Kernbesetzung ist vorhanden.Gastgeber ist der Golf-Club Eifel e.
 V.\, Restaurant »Milan Stuben«\, Milanweg\, 54576 Hilleheim.Zweck des Vere
 ins JAZZUNION e.V. ist die Förderung der Jazzmusik und die kulturelle Juge
 ndhilfe. Dies geschieht vor allem durch öffentlich organisierte Sessions o
 der Konzerte von Mitgliedern der JAZZUNION.\njazzunion.net · © Foto: Hotel
  Löwenstein
DTSTART:20241130T210000Z
DTEND:20241130T210000Z
GEO:00;0
LOCATION:Golf-Club EIfel e.V. – Milanweg – 54576 Hillesheim
ORGANIZER;CN=:mailto:gm@jazzunion.net
SEQUENCE:1
SUMMARY:»session eleven« – JAZZ LIVE – 30.11.2024 im Golf-Club Eifel e.V. i
 n 54576 Hillesheim
TRANSP:OPAQUE
URL:http://jazztaxi.de/alle-termine/529-session-eleven-jazz-live-30-11-2024
 -im-golf-club-eifel-e-v-in-54576-hillesheim/2024-11-30-21-00
END:VEVENT
END:VCALENDAR
