BEGIN:VCALENDAR
VERSION:2.0
PRODID:-//Jazz-Initiative Eifel e. V.//NONSGML kigkonsult.se iCalcreator 2.41.92//
CALSCALE:GREGORIAN
METHOD:PUBLISH
UID:38353365-3366-4339-b139-653466653765
X-WR-CALNAME:iCagenda
X-WR-CALDESC:Event Management Extension for Joomla!
X-WR-RELCALID:3E26604A-50F4-4449-8B3E-E4F4932D05B5
X-WR-TIMEZONE:UTC
BEGIN:VTIMEZONE
TZID:UTC
END:VTIMEZONE
BEGIN:VEVENT
UID:33363166-6235-4136-b534-383533633934
DTSTAMP:20260420T221904Z
CATEGORIES:Allgemein
CLASS:PUBLIC
DESCRIPTION;ALTREP="CID:<FFFF__=0ABBE548DFE235B58f9e8a93d@coffeebean.com>":
 Chantal Kirsch ist eine luxemburgische Sängerin\, die ihre Liebe zur Musik
 \, insbesondere zum Jazz\, in ihren Zwanzigern vollständig aufgegriffen ha
 t. Nach ihrem Bachelor-Abschluss in Maastricht und einem Master in Jazzges
 ang in Saarbrücken etabliert sie sich derzeit in der lebendigen Musikszene
 . Mit einem besonderen Fokus auf die Farben des zeitgenössischen Jazz und 
 des Neo-Soul sind ihre Auftritte geprägt von ihrer unverwechselbaren und a
 usdrucksstarken Stimme\, immer auf der Suche nach der Erkundung der Musik 
 in all ihren Facetten. Ihr kreativer Ansatz treibt sie dazu an\, Standards
  zu zerlegen\, Texte umzuschreiben\, neu zu arrangieren und zu reharmonisi
 eren\, um ein Collage zu schaffen\, das ihren einzigartigen Stil widerspie
 gelt\, ohne sich an bestimmte Regeln zu halten.\nBesetzung:\n\nChantal Kir
 sch - Gesang\nLuca Sales - Keyboards\n\n\nIm Rahmen der Bluebird Coffee Se
 ssions und in co-operation with Bluebird Music ASBL\, der Gemeinde Vianden
  und Colette Coffee Craft.
DTSTART:20241215T110000Z
DTEND:20241215T121500Z
GEO:00;0
LOCATION:Collette Coffee Craft\, Vianden
ORGANIZER:
SEQUENCE:1
SUMMARY:Chantal Kirsch & Luca Sales
TRANSP:OPAQUE
URL:http://jazztaxi.de/alle-termine/527-chantal-kirsch-luca-sales/2024-12-1
 5-11-00
END:VEVENT
END:VCALENDAR
