BEGIN:VCALENDAR
VERSION:2.0
PRODID:-//Jazz-Initiative Eifel e. V.//NONSGML kigkonsult.se iCalcreator 2.41.92//
CALSCALE:GREGORIAN
METHOD:PUBLISH
UID:62663030-3936-4631-a138-383130336535
X-WR-CALNAME:iCagenda
X-WR-CALDESC:Event Management Extension for Joomla!
X-WR-RELCALID:3E26604A-50F4-4449-8B3E-E4F4932D05B5
X-WR-TIMEZONE:UTC
BEGIN:VTIMEZONE
TZID:UTC
END:VTIMEZONE
BEGIN:VEVENT
UID:30396531-3634-4936-b834-316666393438
DTSTAMP:20260420T194503Z
CATEGORIES:Jazzclub
CLASS:PUBLIC
DESCRIPTION;ALTREP="CID:<FFFF__=0ABBE548DFE235B58f9e8a93d@coffeebean.com>":
 Das neue Jazzclubjahr beginnt mit einem Highlight\nMit einem Highlight beg
 innt das neue Jazzclubahr im Bitburger Jazz-Ballroom.\nDie Jazz-Initiative
  Eifel hat eine der gefragtesten deutschen Bands engagiert.\nAuf der Bühne
  stehen wird das Christina Zurhausen Trio. Gespielt wird In der klassische
 n\nGitarren-Trio-Besetzung Modern Jazz\, der in verschiedenen Stilen von G
 roove Jazz über\nOddmeter bis hin zu freien Stücken präsentiert wird. Die&
 nbsp\;Musik&nbsp\;der bekannten Kolner&nbsp\;Jazzgitarristin&nbsp\;\nChris
 tina&nbsp\;Zurhausen&nbsp\;reflektiert&nbsp\;die&nbsp\;innere&nbsp\; Gefuh
 lswelt&nbsp\;einer&nbsp\; Musikerin&nbsp\;aus&nbsp\;dem&nbsp\;Ruhrgebiet\,
 &nbsp\;die&nbsp\;sich\,&nbsp\;von&nbsp\;Philosophie&nbsp\;und&nbsp\;Litera
 tur&nbsp\;gepragt\,&nbsp\;einen&nbsp\;\neigenen&nbsp\;Sound im&nbsp\;moder
 nen&nbsp\;Jazz&nbsp\;geschaffen&nbsp\;hat.&nbsp\;Beeinflusst von Vorreiter
 n wie John&nbsp\;\nScofield oder John Abercrombie besticht das Gitarrenspi
 el durch einen \,unverwechselbaren\nStil und Sound“. Mit Dario Schattel am
  Bass und Ramon Keck am Schlagzeug kommen zwei\nversierte Rhythmusakrobate
 n hinzu\, die die Eigenkompositionen klanglich abrunden und\ndie kommunika
 tiven Improvisationen aktiv mitgestalten.\nDer Monday-Night Jazz findet st
 att am Montag\, 13. Januar 2025\, Beginn 20 Uhr im Jazz-Ballroom im Bowlin
 g-Center Bitburg\, Charles-Lindbergh-Allee 5. Eintritt frei.\nwww.jazzei.d
 e\nwww.facebook.com/jazzeifel\nFoto: Veranstalter
DTSTART:20250113T200000Z
DTEND:20250113T200000Z
GEO:00;0
LOCATION:Jazz-Ballroom im Bowling Center Bitburg
ORGANIZER:
SEQUENCE:1
SUMMARY:Das neue Jazzclubjahr beginnt mit einem Highlight
TRANSP:OPAQUE
URL:http://jazztaxi.de/alle-termine/524-das-neue-jazzclubjahr-beginnt-mit-e
 inem-highlight/2025-01-13-20-00
END:VEVENT
END:VCALENDAR
