BEGIN:VCALENDAR
VERSION:2.0
PRODID:-//Jazz-Initiative Eifel e. V.//NONSGML kigkonsult.se iCalcreator 2.41.92//
CALSCALE:GREGORIAN
METHOD:PUBLISH
UID:65616231-6239-4836-b937-643730356462
X-WR-CALNAME:iCagenda
X-WR-CALDESC:Event Management Extension for Joomla!
X-WR-RELCALID:3E26604A-50F4-4449-8B3E-E4F4932D05B5
X-WR-TIMEZONE:UTC
BEGIN:VTIMEZONE
TZID:UTC
END:VTIMEZONE
BEGIN:VEVENT
UID:32613638-3863-4138-b636-653939333864
DTSTAMP:20260420T165945Z
CATEGORIES:Allgemein
CLASS:PUBLIC
DESCRIPTION;ALTREP="CID:<FFFF__=0ABBE548DFE235B58f9e8a93d@coffeebean.com>":
 Lieder-Macher-Festival in Bitburg 2018\nAm 20.10.2018 veranstaltet die Kul
 turgemeinschaft Bitburg\, in Kooperation mit dem Haus der Jugend Bitburg u
 nd Atelier-Käpper\, das 1. Regionale Lieder-Macher-Festival in Bitburg.\n
 Die vier erfahrenen „Lokalmatadoren“ Sylvia Nels (Mundart)\, Judith Marien
  (Englisch-Pop)\, Achim Weinzen (Deutsch-Pop) und André Käpper (World-Mu
 sic-Pop) haben jeweils mehrere Solo CD 's veröffentlicht und sind in dies
 er Szene auch überregional längst keine Unbekannten mehr.\nTagsüber (vo
 n 9:00-17:00) haben Jugendliche und junggebliebene Erwachsene in verschied
 enen Workshops die Möglichkeit\, zu erfahren\, wie die Dozenten jeweils i
 hr „Handwerk“ umsetzen.\nAus erster Hand bekommen sie hier Tipps\, Tricks 
 und Unterstützung zur Realisierung eigener Ideen (von der Idee bis zur St
 udioumsetzung).\nZiel des Festivals ist es\, die regionale Liedmach-Kunst 
 generell zu fördern und ein neues Lieder-Macher-Forum/ Netzwerk zu gründ
 en.\nDa jeder der vier Musiker aus einer ganz anderen musikalischen Richtu
 ng kommt\, können sie auch ganz unterschiedliche Einblicke und Ansätze z
 um „Songwriting“ anbieten. So werden im Haus der Jugend folgende Workshops
  angeboten:\n„Wie höre ich die Musik in mir“ (intuitives Öffnen\, Ideenf
 indung) mit Judith Marien „Wie finde ich Melodie\, Rhythmus und Liedform i
 n einem Gedicht“ (Liedform\, Metrik) mit Sylvia Nels\n„Wie bringe ich mein
  Lied zum Schwingen“ (rhythmische Struktur\, Stilrichtung) mit André Käp
 per „Wie adaptiere ich Text &amp\; Musik“ (thematische Aussage\, Arrangeme
 nt) mit Achim Weinzen.\nVVK 40€ / 60€ Atelier-Käpper\nAbgerundet wird der
  Abend mit einem öffentlichen Dozenten - Konzert um 19:30 im Haus BEDA.\n
 VVK 12€ / 15€&nbsp\; über Ticket Regional\nInfos &amp\; Anmeldung : 06594 
 92 18 62 www.Andre-Käpper.de
DTSTART:20181020T090000Z
DTEND:20181020T220000Z
GEO:00;0
LOCATION:BEDA Haus / HDJ
ORGANIZER;CN=:mailto:andre@kaepper.de
SEQUENCE:1
SUMMARY:1. Regionale Lieder-Macher-Festival in Bitburg
TRANSP:OPAQUE
URL:http://jazztaxi.de/alle-termine/52-1-regionale-lieder-macher-festival-i
 n-bitburg
END:VEVENT
END:VCALENDAR
