BEGIN:VCALENDAR
VERSION:2.0
PRODID:-//Jazz-Initiative Eifel e. V.//NONSGML kigkonsult.se iCalcreator 2.41.92//
CALSCALE:GREGORIAN
METHOD:PUBLISH
UID:34333138-6162-4538-a563-333134323766
X-WR-CALNAME:iCagenda
X-WR-CALDESC:Event Management Extension for Joomla!
X-WR-RELCALID:3E26604A-50F4-4449-8B3E-E4F4932D05B5
X-WR-TIMEZONE:UTC
BEGIN:VTIMEZONE
TZID:UTC
END:VTIMEZONE
BEGIN:VEVENT
UID:33343534-3365-4233-a463-363331616235
DTSTAMP:20260420T221110Z
CATEGORIES:Allgemein
CLASS:PUBLIC
DESCRIPTION;ALTREP="CID:<FFFF__=0ABBE548DFE235B58f9e8a93d@coffeebean.com>":
 Eine Absage in letzter Minute und wir haben Glück\, dass Rémy Labbé für Sh
 auli Einav einspringt!\nRémy Labbé ist ein belgisch-luxemburgischer Jazztr
 ompeter\, Arrangeur\, Big Band Leader „Le Big Band de Rémy Labbé“ und Päda
 goge. Als Absolvent des Berklee College of Music (BM '15) und der Manhatta
 n School of Music (MM '18) ist Rémy Labbé Arrangeur für die mit einem Gram
 my ausgezeichnete Band The Afro Latin Jazz Orchestra unter der Leitung von
  Arturo O'Farrill'\, sowie für die WE Big Band (Hasselt\, Be)\, das Greg R
 uvolo Collective (NYC)\, die Big Up Band (Genf\, Ch) und das Geneva Chambe
 r Orchestra - OCG (Genf\, Ch).\nSeit September 2021 ist er Chargé de Cours
  für Jazztheorie und Jazz Brass an der Jazzabteilung des Luxemburger Musik
 konservatoriums (Luxemburg-Stadt\, Lu). Derzeit sind seine wichtigsten Pro
 jekte das Rémy Labbé Quintet\, Rémy Jean Labbé - sein persönliches Projekt
  für Songwriting und Popmusik\, und Eddy Pero et le Big Band de Rémy Labbé
  (Paris\, Fr) .\nBesetzung:\n\nRémy Labbé (Trompete)\nJean Yves Jung (Orge
 l)\nSebastian 'Schlapbe' Flach (Bass)\nPit Dahm (Schlagzeug)\n\nIn Zusamme
 narbeit mit Bluebird Music ASBL https://blue-bird.lu/ und mit der finanzie
 llen Unterstützung des luxemburgischen Kulturministeriums.
DTSTART:20241022T203000Z
DTEND:20241022T230000Z
GEO:00;0
LOCATION:Liquid Bar
ORGANIZER:
SEQUENCE:1
SUMMARY:Rémy Labbé
TRANSP:OPAQUE
URL:http://jazztaxi.de/alle-termine/514-remy-labbe/2024-10-22-20-30
END:VEVENT
END:VCALENDAR
