BEGIN:VCALENDAR
VERSION:2.0
PRODID:-//Jazz-Initiative Eifel e. V.//NONSGML kigkonsult.se iCalcreator 2.41.92//
CALSCALE:GREGORIAN
METHOD:PUBLISH
UID:39623433-6334-4539-b763-376434613531
X-WR-CALNAME:iCagenda
X-WR-CALDESC:Event Management Extension for Joomla!
X-WR-RELCALID:3E26604A-50F4-4449-8B3E-E4F4932D05B5
X-WR-TIMEZONE:UTC
BEGIN:VTIMEZONE
TZID:UTC
END:VTIMEZONE
BEGIN:VEVENT
UID:66343134-3266-4136-b130-383264376537
DTSTAMP:20260420T165545Z
CATEGORIES:Allgemein
CLASS:PUBLIC
DESCRIPTION;ALTREP="CID:<FFFF__=0ABBE548DFE235B58f9e8a93d@coffeebean.com>":
 Die Jazzinitiative Eifel präsentiert im Rahmen des Heimatshopping in Prüm 
 'The Barnicles &amp\; the bulletproof Hornsection'.
DTSTART:20180909T150000Z
DTEND:20180909T163000Z
GEO:00;0
LOCATION:Prüm\, Johannismarkt
ORGANIZER;CN=:mailto:info@jazzei.de
SEQUENCE:1
SUMMARY:Prümer Musiktreff am Johannismarkt
TRANSP:OPAQUE
URL:http://jazztaxi.de/alle-termine/51-pruemer-musiktreff-am-johannismarkt
END:VEVENT
END:VCALENDAR
