BEGIN:VCALENDAR
VERSION:2.0
PRODID:-//Jazz-Initiative Eifel e. V.//NONSGML kigkonsult.se iCalcreator 2.41.92//
CALSCALE:GREGORIAN
METHOD:PUBLISH
UID:33373963-3664-4265-b462-613135653934
X-WR-CALNAME:iCagenda
X-WR-CALDESC:Event Management Extension for Joomla!
X-WR-RELCALID:3E26604A-50F4-4449-8B3E-E4F4932D05B5
X-WR-TIMEZONE:UTC
BEGIN:VTIMEZONE
TZID:UTC
END:VTIMEZONE
BEGIN:VEVENT
UID:35613836-6139-4639-b637-633765383333
DTSTAMP:20260420T194305Z
CATEGORIES:Allgemein
CLASS:PUBLIC
DESCRIPTION;ALTREP="CID:<FFFF__=0ABBE548DFE235B58f9e8a93d@coffeebean.com>":
 Kommen Sie zu unserer monatlichen Jam-Session mit der Liquid Jazz House Ba
 nd\, bei der Jazzmusiker aller Stilrichtungen zusammenkommen und gemeinsam
  Musik machen können. Die Jamsession findet jeweils in der letzten Woche d
 es Monats statt und ist eine großartige Gelegenheit\, Ihr Talent zu zeigen
 \, andere Musiker zu treffen und die wunderbaren Klänge des Jazz zu genieß
 en. Lassen Sie sich dieses aufregende Erlebnis nicht entgehen!\nDiese Sess
 ion wird von Pierre Cocq-Amann (Saxophon) geleitet.\n\nIn Kooperation mit 
 Bluebird Music ASBL https://blue-bird.lu/\nMit der finanziellen Unterstütz
 ung des Ministeriums für Kultur des Großherzogtums Luxemburg.
DTSTART:20250128T203000Z
DTEND:20250128T230000Z
GEO:00;0
LOCATION:Liquid Bar\, Luxemburg
ORGANIZER:
SEQUENCE:1
SUMMARY:Liquid Jazz Jam Session
TRANSP:OPAQUE
URL:http://jazztaxi.de/alle-termine/508-liquid-jazz-jam-session-4/2025-01-2
 8-20-30
END:VEVENT
END:VCALENDAR
