BEGIN:VCALENDAR
VERSION:2.0
PRODID:-//Jazz-Initiative Eifel e. V.//NONSGML kigkonsult.se iCalcreator 2.41.92//
CALSCALE:GREGORIAN
METHOD:PUBLISH
UID:36343937-3231-4061-a462-313932326637
X-WR-CALNAME:iCagenda
X-WR-CALDESC:Event Management Extension for Joomla!
X-WR-RELCALID:3E26604A-50F4-4449-8B3E-E4F4932D05B5
X-WR-TIMEZONE:UTC
BEGIN:VTIMEZONE
TZID:UTC
END:VTIMEZONE
BEGIN:VEVENT
UID:64376362-3833-4466-b335-373764326535
DTSTAMP:20260420T194642Z
CATEGORIES:Allgemein
CLASS:PUBLIC
DESCRIPTION;ALTREP="CID:<FFFF__=0ABBE548DFE235B58f9e8a93d@coffeebean.com>":
 Wir freuen uns\, Sie zu einem außergewöhnlichen Abend mit internationalem 
 Jazz einzuladen\, an dem Spitzenmusiker aus Luxemburg und Portugal zusamme
 nkommen und ihre individuellen Stile und Fähigkeiten miteinander verbinden
 .\nBesetzung:\n\nGreg Lamy (L: Gitarre)\nRicardo Toscano (P: Saxophon)\nNe
 lson Cascais (P: Kontrabass)\nPaul Wiltgen (L: Schlagzeug)\n\nVorverkauf: 
 20€ | Abendkassa: 25€\nReservierungen vor dem 5. Januar 2025 @ bluebirdasb
 l@gmail.com\n\nDiese Veranstaltung wird organisiert von Bluebird Music ASB
 L https://blue-bird.lu/Mit der freundlichen Unterstützung des Instituto Ca
 mões und des Kasemattentheaters.Mit der finanziellen Unterstützung des Min
 isteriums für Kultur des Großherzogtums Luxemburg.
DTSTART:20250110T200000Z
DTEND:20250110T223000Z
GEO:00;0
LOCATION:Kasemattentheater
ORGANIZER;CN=:mailto:bluebirdasbl@gmail.com
SEQUENCE:1
SUMMARY:Jazz Exchange: Luxembourg Meets Portugal
TRANSP:OPAQUE
URL:http://jazztaxi.de/alle-termine/507-jazz-exchange-luxembourg-meets-port
 ugal/2025-01-10-20-00
END:VEVENT
END:VCALENDAR
