BEGIN:VCALENDAR
VERSION:2.0
PRODID:-//Jazz-Initiative Eifel e. V.//NONSGML kigkonsult.se iCalcreator 2.41.92//
CALSCALE:GREGORIAN
METHOD:PUBLISH
UID:66633863-3262-4766-b436-306261626238
X-WR-CALNAME:iCagenda
X-WR-CALDESC:Event Management Extension for Joomla!
X-WR-RELCALID:3E26604A-50F4-4449-8B3E-E4F4932D05B5
X-WR-TIMEZONE:UTC
BEGIN:VTIMEZONE
TZID:UTC
END:VTIMEZONE
BEGIN:VEVENT
UID:66363765-6566-4461-b931-373063383334
DTSTAMP:20260420T194309Z
CATEGORIES:Allgemein
CLASS:PUBLIC
DESCRIPTION;ALTREP="CID:<FFFF__=0ABBE548DFE235B58f9e8a93d@coffeebean.com>":
 „Jitz plays Sonny“ ist ein Jazz-Quartett\, das dem legendären Saxophoniste
 n Sonny Rollins mit seinen Kompositionen und Liedern Tribut zollt. Sonny R
 ollins (*1930-09-07) ist bekannt für seine innovativen und einflussreichen
  Beiträge zur Welt des Jazz\, mit einer Karriere\, die sich über sieben Ja
 hrzehnte erstreckt. Er wird für seine Improvisationskünste\, seinen einzig
 artigen Sound und seine dynamischen Auftritte verehrt. Das Quartett hat si
 ch zum Ziel gesetzt\, die Essenz von Rollins' Musik einzufangen und gleich
 zeitig eigene künstlerische Interpretationen hinzuzufügen\, um dem Publiku
 m ein unvergessliches und fesselndes Musikerlebnis zu bieten.\nBesetzung:
 \n\nJitz Jeitz (Saxophon)\nVeda Bartringer (Gitarre)\nRom Heck (Bass)\nMic
 h Mootz (Schlagzeug)\n\n\nIn Kooperation mit Bluebird Music ASBL https://b
 lue-bird.lu/\nMit der finanziellen Unterstützung des Ministeriums für Kult
 ur des Großherzogtums Luxemburg.
DTSTART:20250121T203000Z
DTEND:20250121T230000Z
GEO:00;0
LOCATION:Liquid Bar\, Luxemburg
ORGANIZER:
SEQUENCE:1
SUMMARY:Jitz plays Sonny
TRANSP:OPAQUE
URL:http://jazztaxi.de/alle-termine/506-jitz-plays-sonny/2025-01-21-20-30
END:VEVENT
END:VCALENDAR
