BEGIN:VCALENDAR
VERSION:2.0
PRODID:-//Jazz-Initiative Eifel e. V.//NONSGML kigkonsult.se iCalcreator 2.41.92//
CALSCALE:GREGORIAN
METHOD:PUBLISH
UID:61316534-6532-4561-b263-643765396264
X-WR-CALNAME:iCagenda
X-WR-CALDESC:Event Management Extension for Joomla!
X-WR-RELCALID:3E26604A-50F4-4449-8B3E-E4F4932D05B5
X-WR-TIMEZONE:UTC
BEGIN:VTIMEZONE
TZID:UTC
END:VTIMEZONE
BEGIN:VEVENT
UID:37643431-6232-4837-a261-396339626165
DTSTAMP:20260420T154248Z
CATEGORIES:Feste
CLASS:PUBLIC
DESCRIPTION;ALTREP="CID:<FFFF__=0ABBE548DFE235B58f9e8a93d@coffeebean.com>":
 Gute Musik und viel Leckeres für den Gaumen\, das sind zwei wichtige Merkm
 ale des Schlossfestes am und im Schloss Weilerbach. Und wenn dann noch\, w
 ie die Veranstalter\, die Schloss-Weilerbach-Gesellschaft und die Jazz-Ini
 tiative Eifel\, hoffen\, schönes Sommerwetter sein wird\, sind die besten 
 Voraussetzungen für ein schönes Fest gegeben.\nAm Samstag\, dem 4. August 
 2018\, werden die Tore ab 17 Uhr geöffnet. Der Platz zwischen der Remise u
 nd dem Schloss wird mit Sitzgelegenheiten ausgestattet. Die Gastronomie bi
 etet edle Getränke in breiter Auswahl. Freunde von Grillspezialitäten komm
 en auf ihre Kosten\, Fingerfood und Salate sind im Angebot.\nDazu gibt es 
 Musik. Bühne befindet sich rechts an der Waldseite\, ist etwas erhöht und 
 sehr gut einsehbar. Die Jazz-Initiative Eifel hat ein sehr abwechslungsrei
 ches Bühnen-Programm zusammen gestellt. Ab 18 Uhr spielen drei verschieden
 e Bands im Wechsel.\nDie Combo ISKRA aus Frankreich\, ein Quintett\, spiel
 t hinreißenden Sinti-Swing mit der überragenden Geigerin Céline Zimoch. Ka
 ffee ohne Milch ist eine reine Männertruppe\, ein Quintett ohne Blasinstru
 mente\, dafür aber mit dem Sänger Johannes Schildgen. Sie verstehen sich a
 ls Jazz-Combo und spielen Jazz-Standards und deutsche Chansons der 20er bi
 s 40er Jahre.\nUnd dann spielt noch Klaus der Geiger im Duo mit dem Gitarr
 isten Marius Peters.\nEs wird ein Hörgenuss werden.\nDas Programm endet ge
 gen 23 Uhr. Das bedeutet aber nicht unbedingt das Ende der Veranstaltung. 
 Die Gastronomie bleibt geöffnet.
DTSTART:20180804T170000Z
DTEND:20180804T230000Z
GEO:00;0
LOCATION:Schloss Weilerbach\, Schloß Weilerbach 3\, 54669 Bollendorf
ORGANIZER:
SEQUENCE:1
SUMMARY:Sommerfest auf Schloss Weilerbach
TRANSP:OPAQUE
URL:http://jazztaxi.de/alle-termine/5-sommerfest-auf-schloss-weilerbach
END:VEVENT
END:VCALENDAR
