BEGIN:VCALENDAR
VERSION:2.0
PRODID:-//Jazz-Initiative Eifel e. V.//NONSGML kigkonsult.se iCalcreator 2.41.92//
CALSCALE:GREGORIAN
METHOD:PUBLISH
UID:39343064-3330-4535-b562-663532363533
X-WR-CALNAME:iCagenda
X-WR-CALDESC:Event Management Extension for Joomla!
X-WR-RELCALID:3E26604A-50F4-4449-8B3E-E4F4932D05B5
X-WR-TIMEZONE:UTC
BEGIN:VTIMEZONE
TZID:UTC
END:VTIMEZONE
BEGIN:VEVENT
UID:61633438-6533-4132-a464-306631623431
DTSTAMP:20260420T204950Z
CATEGORIES:Allgemein
CLASS:PUBLIC
DESCRIPTION;ALTREP="CID:<FFFF__=0ABBE548DFE235B58f9e8a93d@coffeebean.com>":
 Bluesy Lips ist eine luxemburgische Bluesband aus Mamer (Luxemburg)\, die 
 2024 gegründet wurde.\nDas Ziel der Band ist es\, Blues- und populäre Song
 s in einer entspannten und gemütlichen Lounge-Atmosphäre mit ein wenig Bis
 s zu spielen. Die Setliste ist eine Mischung aus Blues von den Anfängen bi
 s zum modernen Blues und populären Songs von zum Beispiel Amy Winehouse un
 d Radiohead.\nUnsere Bühnenaufstellung ist relativ einfach\, lediglich die
  akustischen Gitarren und der Gesang gehen direkt in den Mix und nur der B
 ass hat einen Verstärker auf der Bühne.\nBesetzung:\n\nChantal Gottschalk 
 - Gesang\nZilff Rock - Akustikgitarre\nAneesh Balasubramaniyan - Akustikgi
 tarre\nBenny Deleuran - Bass und Kontrabass\n\n\nIn Kooperation mit Bluebi
 rd Music ASBL https://blue-bird.lu/\nMit der finanziellen Unterstützung de
 s Ministeriums für Kultur des Großherzogtums Luxemburg.
DTSTART:20250403T203000Z
DTEND:20250403T230000Z
GEO:00;0
LOCATION:Liquid Bar\, Luxemburg
ORGANIZER:
SEQUENCE:1
SUMMARY:Bluesy Lips
TRANSP:OPAQUE
URL:http://jazztaxi.de/alle-termine/491-bluesy-lips-2/2025-04-03-20-30
END:VEVENT
END:VCALENDAR
