BEGIN:VCALENDAR
VERSION:2.0
PRODID:-//Jazz-Initiative Eifel e. V.//NONSGML kigkonsult.se iCalcreator 2.41.92//
CALSCALE:GREGORIAN
METHOD:PUBLISH
UID:65613666-3634-4164-a330-363939386635
X-WR-CALNAME:iCagenda
X-WR-CALDESC:Event Management Extension for Joomla!
X-WR-RELCALID:3E26604A-50F4-4449-8B3E-E4F4932D05B5
X-WR-TIMEZONE:UTC
BEGIN:VTIMEZONE
TZID:UTC
END:VTIMEZONE
BEGIN:VEVENT
UID:65373832-3438-4137-b363-333034333066
DTSTAMP:20260420T194514Z
CATEGORIES:Allgemein
CLASS:PUBLIC
DESCRIPTION;ALTREP="CID:<FFFF__=0ABBE548DFE235B58f9e8a93d@coffeebean.com>":
 Carls Live-Auftritte sind eine kraftvolle Mischung aus Texas\, Chicago und
  Delta Blues. Im Laufe seiner Karriere spielte und tourte er mit Künstlern
  wie Big Bo McGee\, Little Whitt Wells\, T.W. Henderson\, Sharon Lewis\, T
 ino Gonzales\, Archie Lee Hooker...\, nahm mit all den oben genannten Küns
 tlern auf und lebte und jammte mit dem Godfather of the Boogie John Lee Ho
 oker. Er spielte auch mit Watermelon Slim\, Noel Redding (Jimmy Hendrix Ba
 nd)\, Dani NeLo\, The Drifters (Backing Band)\, Lisa Otey\, Fred Chapelier
 \, Silky Sol und vielen anderen ... Carl Wyatt kann auf viele Jahre Bluese
 rfahrung zurückblicken. Da er in einer Blues-\, Jazz- und Gospelumgebung a
 ufgewachsen ist\, war es nur natürlich\, dass er eines Tages mit dem Blues
  anfing.\nObwohl seine Haupteinflüsse Künstler wie Freddie King\, Johnny W
 inter\, Muddy Waters und John Lee Hooker sind\, hat Carl im Laufe der Jahr
 e seinen eigenen Stil entwickelt. Seine Liebe zum Delta-Blues brachte ihn 
 dazu\, Slide-Gitarre zu studieren\, was ihm einen traditionelleren Zugang 
 zum Blues ermöglichte. Dennoch ist Carl auch in der Lage\, sich auszutoben
  und die Bühne in Brand zu setzen\, wie er es bei vielen Gelegenheiten get
 an hat. Carls zahlreiche Konzert- und Festivalauftritte führten ihn durch 
 Länder wie England\, Belgien\, Holland\, Luxemburg\, Deutschland\, Irland\
 , Frankreich\, Nordirland\, Dänemark\, Spanien\, Italien\, Griechenland un
 d die USA. Carl wurde auch mehrfach von Radio- und Fernsehsendern auf beid
 en Seiten des Atlantiks porträtiert.\nBesetzung:\n\nCarl Wyatt (guitar\, v
 ocals)\nAlex Logel (hammond organ\, piano)\nDaniel Fastro (bass)\nYves “De
 Ville” Ditsch (drums)\n\n\nIn Kooperation mit Bluebird Music ASBL https://
 blue-bird.lu/\nMit der finanziellen Unterstützung des Ministeriums für Kul
 tur des Großherzogtums Luxemburg.
DTSTART:20250116T203000Z
DTEND:20250116T230000Z
GEO:00;0
LOCATION:Liquid Bar\, Luxemburg
ORGANIZER:
SEQUENCE:1
SUMMARY:Carl Wyatt & The Delta Voodoo Kings
TRANSP:OPAQUE
URL:http://jazztaxi.de/alle-termine/489-carl-wyatt-the-delta-voodoo-kings/2
 025-01-16-20-30
END:VEVENT
END:VCALENDAR
