BEGIN:VCALENDAR
VERSION:2.0
PRODID:-//Jazz-Initiative Eifel e. V.//NONSGML kigkonsult.se iCalcreator 2.41.92//
CALSCALE:GREGORIAN
METHOD:PUBLISH
UID:64336532-6139-4262-b464-663037316132
X-WR-CALNAME:iCagenda
X-WR-CALDESC:Event Management Extension for Joomla!
X-WR-RELCALID:3E26604A-50F4-4449-8B3E-E4F4932D05B5
X-WR-TIMEZONE:UTC
BEGIN:VTIMEZONE
TZID:UTC
END:VTIMEZONE
BEGIN:VEVENT
UID:31306531-6338-4538-b861-663433326666
DTSTAMP:20260420T201144Z
CATEGORIES:Allgemein
CLASS:PUBLIC
DESCRIPTION;ALTREP="CID:<FFFF__=0ABBE548DFE235B58f9e8a93d@coffeebean.com>":
 Die Skinny Lee Blues Band ist eine Blues und Blue Note Jazz Band\, die 202
 2 in Luxemburg-Stadt gegründet wurde. Die Band wurde gegründet\, um Live-M
 usik und Jam-Sessions zu unterstützen und eine Plattform für Musiker zu bi
 eten\, die sich für einen Song anschließen möchten. Die Setlist umfasst ei
 ne Mischung aus traditionellen Blues-Songs\, zeitgenössischen Blues-Titeln
  und instrumentalen Blue Note Jazz-Standards - perfekt für einen 2-stündig
 en Gig.\nBesetzung:\n\nCédric Gilis (Gitarre)\nRené Macri (Bass\, Gesang)
 \nDavid Hoffmann (Schlagzeug)\n\nSkinny Lee Blues Band on Facebook\n\nIn K
 ooperation mit Bluebird Music ASBL https://blue-bird.lu/\nMit der finanzie
 llen Unterstützung des Ministeriums für Kultur des Großherzogtums Luxembur
 g.
DTSTART:20250123T203000Z
DTEND:20250123T230000Z
GEO:00;0
LOCATION:Liquid Bar\, Luxemburg
ORGANIZER:
SEQUENCE:1
SUMMARY:Skinny Lee Blues Band
TRANSP:OPAQUE
URL:http://jazztaxi.de/alle-termine/488-skinny-lee-blues-band/2025-01-23-20
 -30
END:VEVENT
END:VCALENDAR
