BEGIN:VCALENDAR
VERSION:2.0
PRODID:-//Jazz-Initiative Eifel e. V.//NONSGML kigkonsult.se iCalcreator 2.41.92//
CALSCALE:GREGORIAN
METHOD:PUBLISH
UID:66643830-6561-4235-a139-663537316366
X-WR-CALNAME:iCagenda
X-WR-CALDESC:Event Management Extension for Joomla!
X-WR-RELCALID:3E26604A-50F4-4449-8B3E-E4F4932D05B5
X-WR-TIMEZONE:UTC
BEGIN:VTIMEZONE
TZID:UTC
END:VTIMEZONE
BEGIN:VEVENT
UID:38316164-6465-4439-b266-343936383266
DTSTAMP:20260420T221623Z
CATEGORIES:Allgemein
CLASS:PUBLIC
DESCRIPTION;ALTREP="CID:<FFFF__=0ABBE548DFE235B58f9e8a93d@coffeebean.com>":
 Jean-Yves Jung ist ein renommierter französischer Jazzpianist und -organis
 t\, der für seine Arbeit sowohl im traditionellen als auch im modernen Jaz
 z bekannt ist. Besonders bekannt ist er für seine Beherrschung der Hammond
 -Orgel und seine Fähigkeit\, verschiedene Jazzstile mit anderen Genres wie
  Blues und Funk zu verbinden.\nJung hat mit zahlreichen bekannten Musikern
  und Bands zusammengearbeitet\, darunter Gitarristen wie Billy Cobham\, Bi
 réli Lagrène und Philip Catherine\, und war Mitglied der berühmten Straßbu
 rger Jazz-Funk-Band „The Big Band de Haguenau“. Seine Vielseitigkeit als M
 usiker hat ihn zu einem gefragten Künstler in der europäischen Jazzszene g
 emacht.\n\nIn Kooperation mit Bluebird Music ASBL https://blue-bird.lu/\nM
 it der finanziellen Unterstützung des Ministeriums für Kultur des Großherz
 ogtums Luxemburg.
DTSTART:20241119T203000Z
DTEND:20241119T230000Z
GEO:00;0
LOCATION:Liquid Bar
ORGANIZER:
SEQUENCE:1
SUMMARY:Jean-Yves Jung
TRANSP:OPAQUE
URL:http://jazztaxi.de/alle-termine/487-jean-yves-jung/2024-11-19-20-30
END:VEVENT
END:VCALENDAR
