BEGIN:VCALENDAR
VERSION:2.0
PRODID:-//Jazz-Initiative Eifel e. V.//NONSGML kigkonsult.se iCalcreator 2.41.92//
CALSCALE:GREGORIAN
METHOD:PUBLISH
UID:62653463-6663-4433-b637-376433653866
X-WR-CALNAME:iCagenda
X-WR-CALDESC:Event Management Extension for Joomla!
X-WR-RELCALID:3E26604A-50F4-4449-8B3E-E4F4932D05B5
X-WR-TIMEZONE:UTC
BEGIN:VTIMEZONE
TZID:UTC
END:VTIMEZONE
BEGIN:VEVENT
UID:35383337-3034-4765-b665-363437326636
DTSTAMP:20260420T220544Z
CATEGORIES:Allgemein
CLASS:PUBLIC
DESCRIPTION;ALTREP="CID:<FFFF__=0ABBE548DFE235B58f9e8a93d@coffeebean.com>":
 Für dieses besondere Konzert im Liquid wird Benoît Martiny mit der George 
 Letellier Group auftreten. Gegründet im August 2021 von George LetelIier (
 Klavier)\, Paulo Simoes (Gitarre)\, Vedran Mutic (Bass)\, Benoît Martiny (
 Schlagzeug) und Solomiya Storozhynska (Violine &amp\; Gesang) und ihrem ge
 meinsamen Interesse an der Musik von Pat Metheny\, dem Komponieren von Ori
 ginalmusik und die Aufführung cooler Arrangements ausgewählter Jazz-Standa
 rds.\n\nIn Kooperation mit Bluebird Music ASBL https://blue-bird.lu/\nMit 
 der finanziellen Unterstützung des Ministeriums für Kultur des Großherzogt
 ums Luxemburg.
DTSTART:20241210T203000Z
DTEND:20241210T230000Z
GEO:+49.609001;+6.135924
LOCATION:Liquid Bar\, Luxemburg
ORGANIZER:
SEQUENCE:1
SUMMARY:Benoît Martiny & George Letellier Group
TRANSP:OPAQUE
URL:http://jazztaxi.de/alle-termine/486-benoit-martiny-george-letellier-gro
 up/2024-12-10-20-30
END:VEVENT
END:VCALENDAR
