BEGIN:VCALENDAR
VERSION:2.0
PRODID:-//Jazz-Initiative Eifel e. V.//NONSGML kigkonsult.se iCalcreator 2.41.92//
CALSCALE:GREGORIAN
METHOD:PUBLISH
UID:30353661-6334-4336-b937-663432303737
X-WR-CALNAME:iCagenda
X-WR-CALDESC:Event Management Extension for Joomla!
X-WR-RELCALID:3E26604A-50F4-4449-8B3E-E4F4932D05B5
X-WR-TIMEZONE:UTC
BEGIN:VTIMEZONE
TZID:UTC
END:VTIMEZONE
BEGIN:VEVENT
UID:38306539-6364-4230-a636-633765326530
DTSTAMP:20260420T204653Z
CATEGORIES:Allgemein
CLASS:PUBLIC
DESCRIPTION;ALTREP="CID:<FFFF__=0ABBE548DFE235B58f9e8a93d@coffeebean.com>":
 Bender ist ständig bestrebt\, sich weiterzuentwickeln\, sei es als Instrum
 entalist oder als Komponist. Als Leiter verschiedener Bands nutzt er die B
 esonderheiten dieser Projekte\, um seine vielseitigen Facetten als Komponi
 st und Leader zu präsentieren. Er hat eine Reihe von Alben veröffentlicht\
 , zuletzt Maxime Bender Universal Sky „Fall &amp\; Rise“ beim italienische
 n Label Cam Jazz.\nHeute ist Maxime Bender in der europäischen Jazzszene s
 ehr bekannt und ist auf mehreren renommierten Festivals sowie in vielen Cl
 ubs und anderen Veranstaltungsorten auf der ganzen Welt aufgetreten.\n\nIn
  Kooperation mit Bluebird Music ASBL https://blue-bird.lu/\nMit der finanz
 iellen Unterstützung des Ministeriums für Kultur des Großherzogtums Luxemb
 urg.
DTSTART:20241203T203000Z
DTEND:20241203T230000Z
GEO:00;0
LOCATION:Liquid Bar\, Luxemburg
ORGANIZER:
SEQUENCE:1
SUMMARY:Maxime Bender
TRANSP:OPAQUE
URL:http://jazztaxi.de/alle-termine/485-maxime-bender
END:VEVENT
END:VCALENDAR
