BEGIN:VCALENDAR
VERSION:2.0
PRODID:-//Jazz-Initiative Eifel e. V.//NONSGML kigkonsult.se iCalcreator 2.41.92//
CALSCALE:GREGORIAN
METHOD:PUBLISH
UID:36343463-3732-4164-b461-656565356461
X-WR-CALNAME:iCagenda
X-WR-CALDESC:Event Management Extension for Joomla!
X-WR-RELCALID:3E26604A-50F4-4449-8B3E-E4F4932D05B5
X-WR-TIMEZONE:UTC
BEGIN:VTIMEZONE
TZID:UTC
END:VTIMEZONE
BEGIN:VEVENT
UID:37633037-3164-4365-b038-303531353363
DTSTAMP:20260420T204839Z
CATEGORIES:Allgemein
CLASS:PUBLIC
DESCRIPTION;ALTREP="CID:<FFFF__=0ABBE548DFE235B58f9e8a93d@coffeebean.com>":
 Mit Standort zwischen Toulouse (Frankreich) und Luxemburg haben Bo &amp\; 
 The Sox seit 2022 die Bühnen\, Bars und Straßen des Großherzogtums durchst
 reift\, um ihre eigene Interpretation von klassischen Blues-Standards mit 
 einem stets begeisterten Publikum zu teilen. Erleben und tanzen Sie zu den
  Klängen der besten alten Blues-Standards aus Chicago und darüber hinaus!
 \nBesetzung:\n\nBo (Gitarre\, Gesang)\nDavid Soul (Gitarre)\nSlim Gio (Bas
 s)\nTom Lehnert (Schlagzeug)\n\n\nIn Kooperation mit Bluebird Music ASBL h
 ttps://blue-bird.lu/\nMit der finanziellen Unterstützung des Ministeriums 
 für Kultur des Großherzogtums Luxemburg.
DTSTART:20241212T203000Z
DTEND:20241212T230000Z
GEO:00;0
LOCATION:Liquid Bar\, Luxemburg
ORGANIZER:
SEQUENCE:1
SUMMARY:Bo & The Sox
TRANSP:OPAQUE
URL:http://jazztaxi.de/alle-termine/484-bo-the-sox
END:VEVENT
END:VCALENDAR
