BEGIN:VCALENDAR
VERSION:2.0
PRODID:-//Jazz-Initiative Eifel e. V.//NONSGML kigkonsult.se iCalcreator 2.41.92//
CALSCALE:GREGORIAN
METHOD:PUBLISH
UID:61656163-6264-4131-a662-343065386431
X-WR-CALNAME:iCagenda
X-WR-CALDESC:Event Management Extension for Joomla!
X-WR-RELCALID:3E26604A-50F4-4449-8B3E-E4F4932D05B5
X-WR-TIMEZONE:UTC
BEGIN:VTIMEZONE
TZID:UTC
END:VTIMEZONE
BEGIN:VEVENT
UID:38623032-6164-4265-a338-303230333339
DTSTAMP:20260420T204945Z
CATEGORIES:Allgemein
CLASS:PUBLIC
DESCRIPTION;ALTREP="CID:<FFFF__=0ABBE548DFE235B58f9e8a93d@coffeebean.com>":
 SAN-HO-ZAY ist eine luxemburgische Bluesband aus der Minette-Region\, gegr
 ündet im Jahr 2023. Einflüsse: B. B. King\, Freddie King\, Howlin’ Wolf\, 
 Stevie Ray Vaughan\, Eric Clapton\, Albert Cummings\, Remo Cavallini.\nSAN
 -HO-ZAY\, eine sensationelle Bluesband. Der fesselnde Sound\, durchdrungen
  von tiefer Emotion\, wird Ihre Seele verzaubern. Machen Sie sich bereit f
 ür eine unvergessliche musikalische Reise. Lassen Sie sich von SAN-HO-ZAYs
  Groove mit Ewen Curreli\, Yann Téqui\, Gilles Thoma\, Dietmar Dumlich und
  natürlich René Cavallini\, der Blueslegende aus Differdange\, mitreißen!
 \nBesetzung:\n\nEwen Curreli (Gesang\, Gitarre)\nDietmar Dumlich (Keyboard
 )\nYann Tequi (Kontrabass)\nGilles Thoma (Schlagzeug)\nRené Cavallini (Mun
 dharmonika)\n\n\nIn Kooperation mit Bluebird Music ASBL https://blue-bird.
 lu/\nMit der finanziellen Unterstützung des Ministeriums für Kultur des Gr
 oßherzogtums Luxemburg.
DTSTART:20241205T203000Z
DTEND:20241205T230000Z
GEO:00;0
LOCATION:Liquid Bar\, Luxemburg
ORGANIZER:
SEQUENCE:1
SUMMARY:SAN-HO-ZAY
TRANSP:OPAQUE
URL:http://jazztaxi.de/alle-termine/483-san-ho-zay
END:VEVENT
END:VCALENDAR
