BEGIN:VCALENDAR
VERSION:2.0
PRODID:-//Jazz-Initiative Eifel e. V.//NONSGML kigkonsult.se iCalcreator 2.41.92//
CALSCALE:GREGORIAN
METHOD:PUBLISH
UID:30363735-3764-4238-a637-386132646237
X-WR-CALNAME:iCagenda
X-WR-CALDESC:Event Management Extension for Joomla!
X-WR-RELCALID:3E26604A-50F4-4449-8B3E-E4F4932D05B5
X-WR-TIMEZONE:UTC
BEGIN:VTIMEZONE
TZID:UTC
END:VTIMEZONE
BEGIN:VEVENT
UID:38316666-6631-4436-b537-633039656530
DTSTAMP:20260420T221151Z
CATEGORIES:Allgemein
CLASS:PUBLIC
DESCRIPTION;ALTREP="CID:<FFFF__=0ABBE548DFE235B58f9e8a93d@coffeebean.com>":
 Pascal Karenbo &amp\; Les Garagistes ist eine französisch-luxemburgische C
 ountry-Blues-\, Folk- und Rockband aus Longwy (F)\, die 2018 gegründet wur
 de. Sie spielen Eigenkompositionen von Pascal Karenbo und Pierre Collet.\n
 Pascal Karenbo kann auf über 40 Jahre Erfahrung als Singer-Songwriter zurü
 ckblicken\, mit einem nationalen Hit im Jahr 1988 und unzähligen Auftritte
 n in Frankreich\, Belgien und Luxemburg.\nBesetzung:\n\nPascal Karenbo (Ge
 sang\, Gitarre)\nPierre Collet (Gitarre)\nJeff Defloraine (Bass\, Hintergr
 undgesang)\nRob Schauls (Schlagzeug)\n\n\nIn Kooperation mit Bluebird Musi
 c ASBL https://blue-bird.lu/\nMit der finanziellen Unterstützung des Minis
 teriums für Kultur des Großherzogtums Luxemburg.
DTSTART:20241121T203000Z
DTEND:20241121T230000Z
GEO:00;0
LOCATION:Liquid Bar
ORGANIZER:
SEQUENCE:1
SUMMARY:Pascal Karenbo & Les Garagistes
TRANSP:OPAQUE
URL:http://jazztaxi.de/alle-termine/480-pascal-karenbo-les-garagistes/2024-
 11-21-20-30
END:VEVENT
END:VCALENDAR
