BEGIN:VCALENDAR
VERSION:2.0
PRODID:-//Jazz-Initiative Eifel e. V.//NONSGML kigkonsult.se iCalcreator 2.41.92//
CALSCALE:GREGORIAN
METHOD:PUBLISH
UID:35366336-3135-4662-a666-373662303466
X-WR-CALNAME:iCagenda
X-WR-CALDESC:Event Management Extension for Joomla!
X-WR-RELCALID:3E26604A-50F4-4449-8B3E-E4F4932D05B5
X-WR-TIMEZONE:UTC
BEGIN:VTIMEZONE
TZID:UTC
END:VTIMEZONE
BEGIN:VEVENT
UID:30363264-6561-4930-a462-323535343738
DTSTAMP:20260420T165136Z
CATEGORIES:Allgemein
CLASS:PUBLIC
DESCRIPTION;ALTREP="CID:<FFFF__=0ABBE548DFE235B58f9e8a93d@coffeebean.com>":
 Künstlerische Leitung: Bertrand Gröger. Mit Kompositionen von: Herbie Hanc
 ock\, Pat Metheny\, Keith Jarret\, Hector Martignon\, Olivia Trummer\, Esb
 jörn Svensson Trio\, Nele Pfleiderer.\n'Infusion' ist ein Verweis auf die 
 Siebziger – die Hochzeit des Fusion-Genres – und deren Einfluss auf den Ja
 zz. Jazz zwischen 1970 und heute\, mit Glanzlichtern von Keith Jarrett\, E
 sbjörn Svensson oder Herbie Hancock\, ist wie maßgeschneidert für den Chor
 \, deren perfekte Gesangskunst schaudern lässt. Der Jazzchor Freiburg gehö
 rt zu den besten Ensembles seines Genres.\nKaum eine Entwicklung im Jazz h
 atte eine vergleichbare Breitenwirkung wie seine Verschmelzung mit Rock\, 
 Funk und Latin zu „Fusion“ – Musikerpersönlichkeiten wie Miles Davis oder 
 Pat Metheny und bahnbrechende Kompositionen wie Joe Zawinuls „Birdland“ si
 nd bis heute im kollektiven Bewusstsein verankert. Mit seinem neuen Progra
 mm „Infusion“ erschließt sich der Jazzchor Freiburg diesen vitalisierenden
  Stilmix des instrumentalen Jazz. Begleitet wird der Chor dabei von seinem
  bewährten Jazz-Trio aus Klavier\, Kontrabass und Schlagzeug. Der Jazzchor
  Freiburg steht für hohe Chorkultur\, innovative Projekte und mitreißende 
 Konzerte. 1990 von Bertrand Gröger gegründet und seither geleitet\, ist er
  der Jazzchor Deutschlands. Er bringt Menschen mit unterschiedlichen musik
 alischen Interessen und Hörgewohnheiten zusammen – Jazzliebhaber\, Chorfan
 s\, Klassikpublikum – und das weltweit. Ausgedehnte Tourneen führten den C
 hor in viele Länder Europas und Asiens. Die Konzerte sind immer ein Erlebn
 is der besonderen Art\, seien sie vom Chor allein oder mit Gästen (etwa Bo
 bby McFerrin\, Swingle Singers\, Torun Eriksen)\, mit Band oder sogar Orch
 ester (etwa Bamberger Symphoniker\, Orchestre Philharmonique de Strasbourg
 ). (Foto: Lisa Gramlich)\nPressestimmen'Die Vor-Premiere der beiden Modern
 -Jazz-Stücke von Keith Jarret und Esbjörn Svenson jedenfalls zeigen den Ja
 zzchor in einer ganz anderen Klangfarbe. Perfekte Sangeskunst\, die schaud
 ern ließ\, die in ihrem Satzgesang an Choräle erinnerte. (...) Und der Cho
 r singt im Stile einer Kantorei seine Version des sagenhaften Köln-Konzert
 s des amerikanischen Pianisten. Sie sind aus der Reihe gefallen mit diesen
  Stücken\, haben Neues gewagt und überzeugt.' Badische Zeitung\, 31. Oktob
 er 2016\n'Die so erzielte rhythmische Präzision und Akuratesse ist praktis
 ch nicht mehr steigerbar und bewirkte eine scheinbare Leichtigkeit im Gesa
 ng\, die in Wahrheit sicherlich so einfach gar nicht ist.“ Südkurier\, 201
 6\n&nbsp\;\nSa\, 27.10.2018 / 20H00\nErwachsene: 25 € / Cube Card: 20 € / 
 &lt\; 26 Jahren: 12 €\nKartenvorverkauf: + 352 521 521 / info@cube521.lu /
  www.cube521.lu\n&nbsp\;\nCube 521\n1-3\, Driicht L-9764 Marnach
DTSTART:20181027T200000Z
DTEND:20181027T200000Z
GEO:00;0
LOCATION:Cube 521
ORGANIZER;CN=:mailto:info@cube521.lu
SEQUENCE:1
SUMMARY:Jazzchor Freiburg - Infusion
TRANSP:OPAQUE
URL:http://jazztaxi.de/alle-termine/48-jazzchor-freiburg-infusion/2018-10-2
 7-20-00
END:VEVENT
END:VCALENDAR
