BEGIN:VCALENDAR
VERSION:2.0
PRODID:-//Jazz-Initiative Eifel e. V.//NONSGML kigkonsult.se iCalcreator 2.41.92//
CALSCALE:GREGORIAN
METHOD:PUBLISH
UID:38363932-3762-4465-a662-393961313831
X-WR-CALNAME:iCagenda
X-WR-CALDESC:Event Management Extension for Joomla!
X-WR-RELCALID:3E26604A-50F4-4449-8B3E-E4F4932D05B5
X-WR-TIMEZONE:UTC
BEGIN:VTIMEZONE
TZID:UTC
END:VTIMEZONE
BEGIN:VEVENT
UID:65306665-3963-4334-b335-663462346430
DTSTAMP:20260420T204900Z
CATEGORIES:Allgemein
CLASS:PUBLIC
DESCRIPTION;ALTREP="CID:<FFFF__=0ABBE548DFE235B58f9e8a93d@coffeebean.com>":
 Max’On’Swing is the meeting of three musicians with different musical styl
 es. It was during a musical exchange where the guitar/vocals of Cédric BIE
 LITZ and the harmonica of Livio CAREDDU\, supported by the double bass of 
 Alain WITTISCHE\, were perfectly in tune that they decided to form an elec
 tro-acoustic group. The Max’On’Swing group then performed at numerous fest
 ivals in France and abroad\, always with the same desire: to share a music
 al moment with their audience.\nIn co-operation with Bluebird Music ASBL h
 ttps://blue-bird.lu/
DTSTART:20241114T203000Z
DTEND:20241114T230000Z
GEO:00;0
LOCATION:Liquid Bar
ORGANIZER:
SEQUENCE:1
SUMMARY:Max'On'Swing
TRANSP:OPAQUE
URL:http://jazztaxi.de/alle-termine/479-maxonswing/2024-11-14-20-30
END:VEVENT
END:VCALENDAR
