BEGIN:VCALENDAR
VERSION:2.0
PRODID:-//Jazz-Initiative Eifel e. V.//NONSGML kigkonsult.se iCalcreator 2.41.92//
CALSCALE:GREGORIAN
METHOD:PUBLISH
UID:31643266-6662-4635-b132-333234646235
X-WR-CALNAME:iCagenda
X-WR-CALDESC:Event Management Extension for Joomla!
X-WR-RELCALID:3E26604A-50F4-4449-8B3E-E4F4932D05B5
X-WR-TIMEZONE:UTC
BEGIN:VTIMEZONE
TZID:UTC
END:VTIMEZONE
BEGIN:VEVENT
UID:33306537-3234-4264-b739-653134306465
DTSTAMP:20260420T205147Z
CATEGORIES:Allgemein
CLASS:PUBLIC
DESCRIPTION;ALTREP="CID:<FFFF__=0ABBE548DFE235B58f9e8a93d@coffeebean.com>":
 Ein dynamisches Jazztrio\, das mit seinen gefühlvollen Melodien und seinem
  rhythmischen Können zu fesseln weiß. Das Herzstück dieses Ensembles ist D
 avid Ascani am Saxophon\, der mit seinem ausdrucksstarken Spiel und seinen
  melodischen Linien Geschichten webt.\nErgänzt wird er von Niels Engel am 
 Schlagzeug\, der mit seinen vertrackten Rhythmen und kraftvollen Beats die
  Musik vorantreibt. Verankert wird das Trio von Max Serra am Kontrabass\, 
 dessen satte Töne und tadelloses Timing die perfekte Grundlage für ihren f
 esselnden Sound bilden.\nGemeinsam schaffen David Ascani\, Niels Engel und
  Max Serra ein musikalisches Erlebnis\, das sowohl intim als auch berausch
 end ist und zeitgenössischen Jazz mit einem Hauch von zeitloser Eleganz pr
 äsentiert.\nBesetzung:\n\nNiels Engel - Schlagzeug\nMax Serra - Kontrabass
 \nDavid Ascani - Saxophon\n\n\nIn Kooperation mit Bluebird Music ASBL http
 s://blue-bird.lu/\nMit der finanziellen Unterstützung des Ministeriums für
  Kultur des Großherzogtums Luxemburg.
DTSTART:20241112T203000Z
DTEND:20241112T230000Z
GEO:00;0
LOCATION:Liquid Bar
ORGANIZER:
SEQUENCE:1
SUMMARY:David Ascani Trio
TRANSP:OPAQUE
URL:http://jazztaxi.de/alle-termine/478-david-ascani-trio/2024-11-12-20-30
END:VEVENT
END:VCALENDAR
