BEGIN:VCALENDAR
VERSION:2.0
PRODID:-//Jazz-Initiative Eifel e. V.//NONSGML kigkonsult.se iCalcreator 2.41.92//
CALSCALE:GREGORIAN
METHOD:PUBLISH
UID:31303733-6135-4635-b261-313831666437
X-WR-CALNAME:iCagenda
X-WR-CALDESC:Event Management Extension for Joomla!
X-WR-RELCALID:3E26604A-50F4-4449-8B3E-E4F4932D05B5
X-WR-TIMEZONE:UTC
BEGIN:VTIMEZONE
TZID:UTC
END:VTIMEZONE
BEGIN:VEVENT
UID:30653463-3062-4139-b833-386534323939
DTSTAMP:20260420T220824Z
CATEGORIES:Allgemein
CLASS:PUBLIC
DESCRIPTION;ALTREP="CID:<FFFF__=0ABBE548DFE235B58f9e8a93d@coffeebean.com>":
 BMAD\, aka Boogie Music Against Depression (or Blues Makes A Difference)\,
  was established in 2020 amidst the pandemic as a duo\, intent on having a
  good time and shielding themselves from drifting into depression. By 2023
 \, BMAD expanded into a trio\, with Christian Ries playing the piano and s
 inging with his gravelly voice\, Paulo Simões strumming the guitar\, and R
 ob Schauls commanding the drums.\nBMAD delights audiences with a captivati
 ng blend of boogie-woogie\, blues\, and timeless jazz classics\, alongside
  their own compositions. Their distinctive sound bears marked influences f
 rom esteemed musicians such as Leroy Carr\, Roosevelt Sykes\, Blind John D
 avis\, Memphis Slim\, Eddie Boyd\, Jimmie Bell\, Sammy Price\, Champion Ja
 ck Dupree\, Fats Waller\, Eroll Garner and Louis Armstrong …\n\nChristian 
 Ries: stage piano\, vocals\nPaulo Simões: guitar\nRob Schauls: drums\n\nIn
  co-operation with Bluebird Music ASBL https://blue-bird.lu/
DTSTART:20241107T203000Z
DTEND:20241107T230000Z
GEO:00;0
LOCATION:Liquid Bar
ORGANIZER:
SEQUENCE:1
SUMMARY:BMAD
TRANSP:OPAQUE
URL:http://jazztaxi.de/alle-termine/477-bmad/2024-11-07-20-30
END:VEVENT
END:VCALENDAR
