BEGIN:VCALENDAR
VERSION:2.0
PRODID:-//Jazz-Initiative Eifel e. V.//NONSGML kigkonsult.se iCalcreator 2.41.92//
CALSCALE:GREGORIAN
METHOD:PUBLISH
UID:31376362-3534-4237-b661-666362653136
X-WR-CALNAME:iCagenda
X-WR-CALDESC:Event Management Extension for Joomla!
X-WR-RELCALID:3E26604A-50F4-4449-8B3E-E4F4932D05B5
X-WR-TIMEZONE:UTC
BEGIN:VTIMEZONE
TZID:UTC
END:VTIMEZONE
BEGIN:VEVENT
UID:32636535-3235-4662-b730-323231653561
DTSTAMP:20260420T221302Z
CATEGORIES:Allgemein
CLASS:PUBLIC
DESCRIPTION;ALTREP="CID:<FFFF__=0ABBE548DFE235B58f9e8a93d@coffeebean.com>":
 Back to the roots: in the Standards Trio with Arthur Possing on piano\, Pi
 t Dahm on drums\, and Pol Belardi on bass\, the great composers of jazz hi
 story are honoured. With a preference for their early favourites in the ja
 zz realm\, the group presents a selection of their favourite works from th
 e pens of masters such as Thelonious Monk\, Wayne Shorter\, Duke Ellington
 \, Horace Silver\, and George Gershwin. The trio draws on spontaneity and 
 interactivity to create re-imagined and fresh versions\, while still maint
 aining respect for tradition.\nLine-up:\n\nPol Belardi – bass\nPit Dahm – 
 drums\nArthur Possing – piano\n\nIn co-operation with Bluebird Music ASBL 
 https://blue-bird.lu/
DTSTART:20241105T203000Z
DTEND:20241105T230000Z
GEO:00;0
LOCATION:Liquid Bar
ORGANIZER:
SEQUENCE:1
SUMMARY:Belardi-Dahm-Possing Standards Trio
TRANSP:OPAQUE
URL:http://jazztaxi.de/alle-termine/476-belardi-dahm-possing-standards-trio
 /2024-11-05-20-30
END:VEVENT
END:VCALENDAR
