BEGIN:VCALENDAR
VERSION:2.0
PRODID:-//Jazz-Initiative Eifel e. V.//NONSGML kigkonsult.se iCalcreator 2.41.92//
CALSCALE:GREGORIAN
METHOD:PUBLISH
UID:36323330-6339-4632-b166-396639366135
X-WR-CALNAME:iCagenda
X-WR-CALDESC:Event Management Extension for Joomla!
X-WR-RELCALID:3E26604A-50F4-4449-8B3E-E4F4932D05B5
X-WR-TIMEZONE:UTC
BEGIN:VTIMEZONE
TZID:UTC
END:VTIMEZONE
BEGIN:VEVENT
UID:33303966-3565-4564-a233-616562366338
DTSTAMP:20260420T221039Z
CATEGORIES:Allgemein
CLASS:PUBLIC
DESCRIPTION;ALTREP="CID:<FFFF__=0ABBE548DFE235B58f9e8a93d@coffeebean.com>":
 Join us for a monthly jam session event with our Liquid Blues House Band\,
  where amateur and confirmed blues musicians come together to create fanta
 stic music. Held in the last week of every month\, this is the perfect opp
 ortunity to showcase your skills\, connect with fellow musicians\, and imm
 erse yourself in the soulful sounds of the blues. Don’t miss out on this e
 lectrifying experience!\nLine-up\n\nBert Marijsse (guitar\, vocals)\nDan F
 astro (bass)\nTom Lehnert (drums)\n\nIn co-operation with Bluebird Music A
 SBL https://blue-bird.lu/
DTSTART:20241031T203000Z
DTEND:20241031T230000Z
GEO:00;0
LOCATION:Liquid Bar
ORGANIZER:
SEQUENCE:1
SUMMARY:Liquid Blues Jam Session
TRANSP:OPAQUE
URL:http://jazztaxi.de/alle-termine/475-liquid-blues-jam-session-2/2024-10-
 31-20-30
END:VEVENT
END:VCALENDAR
