BEGIN:VCALENDAR
VERSION:2.0
PRODID:-//Jazz-Initiative Eifel e. V.//NONSGML kigkonsult.se iCalcreator 2.41.92//
CALSCALE:GREGORIAN
METHOD:PUBLISH
UID:62326663-3235-4761-b165-306630643661
X-WR-CALNAME:iCagenda
X-WR-CALDESC:Event Management Extension for Joomla!
X-WR-RELCALID:3E26604A-50F4-4449-8B3E-E4F4932D05B5
X-WR-TIMEZONE:UTC
BEGIN:VTIMEZONE
TZID:UTC
END:VTIMEZONE
BEGIN:VEVENT
UID:31633166-3435-4063-b635-626333353032
DTSTAMP:20260420T221039Z
CATEGORIES:Allgemein
CLASS:PUBLIC
DESCRIPTION;ALTREP="CID:<FFFF__=0ABBE548DFE235B58f9e8a93d@coffeebean.com>":
 Come and join us for a monthly jam session event with our Liquid Jazz Hous
 e Band\, where jazz musicians of all abilities can come together to make a
 mazing music. Taking place in the last week of each month\, this is a grea
 t chance to show off your talents\, meet other musicians\, and enjoy the w
 onderful sounds of jazz. Make sure you don’t miss out on this exciting exp
 erience!\nThis session will be led by Pierre Cocq-Amann (saxophones).\nIn 
 co-operation with Bluebird Music ASBL https://blue-bird.lu/
DTSTART:20241029T203000Z
DTEND:20241029T230000Z
GEO:00;0
LOCATION:Liquid Bar
ORGANIZER:
SEQUENCE:1
SUMMARY:Liquid Jazz Jam Session
TRANSP:OPAQUE
URL:http://jazztaxi.de/alle-termine/474-liquid-jazz-jam-session-2/2024-10-2
 9-20-30
END:VEVENT
END:VCALENDAR
