BEGIN:VCALENDAR
VERSION:2.0
PRODID:-//Jazz-Initiative Eifel e. V.//NONSGML kigkonsult.se iCalcreator 2.41.92//
CALSCALE:GREGORIAN
METHOD:PUBLISH
UID:37633763-3233-4262-b233-326231303036
X-WR-CALNAME:iCagenda
X-WR-CALDESC:Event Management Extension for Joomla!
X-WR-RELCALID:3E26604A-50F4-4449-8B3E-E4F4932D05B5
X-WR-TIMEZONE:UTC
BEGIN:VTIMEZONE
TZID:UTC
END:VTIMEZONE
BEGIN:VEVENT
UID:38303833-3161-4031-a538-626630376462
DTSTAMP:20260420T205109Z
CATEGORIES:Allgemein
CLASS:PUBLIC
DESCRIPTION;ALTREP="CID:<FFFF__=0ABBE548DFE235B58f9e8a93d@coffeebean.com>":
 The Bottlenecks is a Blues-Rock band located in Luxembourg and founded in 
 2023. In 2023\, they won the national Luxembourg Blues Contest and have re
 presented the country at the 12th European Blues Challenge in Braga\, Port
 ugal\, in April 2024.\nThe Bottlenecks takes the audience on a trip from t
 he 1950s to the 2020s with a fine range of selected cover tunes from great
  musicians like Little Walter\, Muddy Waters\, Big Walter Horton\, Junior 
 Wells\, James Harman\, Kim Wilson\, Paul Lamb and Jason Ricci\, filled wit
 h a lot of groovy and juicy harmonica and guitar licks.\nLine-up (2024)\n
 \nAngel Georgiev (blues harp\, vocals)\nDaniel Eiffener (guitar)\nPascal C
 remer (bass)\nPatrick ‘Petz’ Flammang (drums)\n\nIn co-operation with Blue
 bird Music ASBL https://blue-bird.lu/
DTSTART:20241024T203000Z
DTEND:20241024T230000Z
GEO:00;0
LOCATION:Liquid Bar
ORGANIZER:
SEQUENCE:1
SUMMARY:The Bottlenecks
TRANSP:OPAQUE
URL:http://jazztaxi.de/alle-termine/473-the-bottlenecks/2024-10-24-20-30
END:VEVENT
END:VCALENDAR
