BEGIN:VCALENDAR
VERSION:2.0
PRODID:-//Jazz-Initiative Eifel e. V.//NONSGML kigkonsult.se iCalcreator 2.41.92//
CALSCALE:GREGORIAN
METHOD:PUBLISH
UID:33636537-3231-4265-b339-633737383032
X-WR-CALNAME:iCagenda
X-WR-CALDESC:Event Management Extension for Joomla!
X-WR-RELCALID:3E26604A-50F4-4449-8B3E-E4F4932D05B5
X-WR-TIMEZONE:UTC
BEGIN:VTIMEZONE
TZID:UTC
END:VTIMEZONE
BEGIN:VEVENT
UID:30356666-6266-4431-a332-306636303936
DTSTAMP:20260420T204946Z
CATEGORIES:Allgemein
CLASS:PUBLIC
DESCRIPTION;ALTREP="CID:<FFFF__=0ABBE548DFE235B58f9e8a93d@coffeebean.com>":
 Bluesy Lips is is a blues band based in Mamer (Luxembourg) and founded in 
 2024.\nThe intent of the band is to play the blues and popular songs in a 
 relaxed and cosy lounge kind atmosphere with a bit of bite. The set list i
 s a mix of blues from the early days to modern blues and popular songs by\
 , for example\, Amy Winehouse and Radiohead.\nOur stage set-up is relative
 ly simple having the acoustic guitars and vocal going directly into the mi
 x and only the bass having an amp on stage.\nLine-up (2024)\n\nChantal Got
 tschalk – Vocal\nZilff Rock – Acoustic guitar\nAneesh Balasubramaniyan – A
 coustic guitar\nBenny Deleuran – Bass and double bass\n\nIn co-operation w
 ith Bluebird Music ASBL https://blue-bird.lu/
DTSTART:20241017T203000Z
DTEND:20241017T230000Z
GEO:00;0
LOCATION:Liquid Bar
ORGANIZER:
SEQUENCE:1
SUMMARY:Bluesy Lips
TRANSP:OPAQUE
URL:http://jazztaxi.de/alle-termine/471-bluesy-lips/2024-10-17-20-30
END:VEVENT
END:VCALENDAR
