BEGIN:VCALENDAR
VERSION:2.0
PRODID:-//Jazz-Initiative Eifel e. V.//NONSGML kigkonsult.se iCalcreator 2.41.92//
CALSCALE:GREGORIAN
METHOD:PUBLISH
UID:61626439-3435-4163-b466-613134323233
X-WR-CALNAME:iCagenda
X-WR-CALDESC:Event Management Extension for Joomla!
X-WR-RELCALID:3E26604A-50F4-4449-8B3E-E4F4932D05B5
X-WR-TIMEZONE:UTC
BEGIN:VTIMEZONE
TZID:UTC
END:VTIMEZONE
BEGIN:VEVENT
UID:38613966-3632-4462-a633-633865383436
DTSTAMP:20260420T221140Z
CATEGORIES:Allgemein
CLASS:PUBLIC
DESCRIPTION;ALTREP="CID:<FFFF__=0ABBE548DFE235B58f9e8a93d@coffeebean.com>":
 Chantal Kirsch is a Luxembourgish singer who fully embraced her love for m
 usic\, especially jazz\, in her twenties. After earning her Bachelor’s deg
 ree in Maastricht and a Master’s in Jazz Vocals in Saarbrücken\, she is cu
 rrently establishing herself in the vibrant music scene.With a particular 
 focus on the colors of contemporary jazz and neo-soul\, her performances a
 re marked by her distinctive and expressive voice\, always seeking to expl
 ore music in all its facets.Her creative approach drives her to dismantle 
 standards\, rewriting lyrics\, rearranging and reharmonizing them into a c
 ollage that reflects her unique style\, without adhering to any particular
  rules.\nLine-up:\n\nChantal Kirsch – Vocals\nLuca Sales – Keys\nBen Weis 
 – E-Bass\nPit Bourkel – Drums\n\nIn co-operation with Bluebird Music ASBL 
 https://blue-bird.lu/
DTSTART:20241015T203000Z
DTEND:20241015T230000Z
GEO:00;0
LOCATION:Liquid Bar
ORGANIZER:
SEQUENCE:1
SUMMARY:Chantal Kirsch
TRANSP:OPAQUE
URL:http://jazztaxi.de/alle-termine/470-chantal-kirsch/2024-10-15-20-30
END:VEVENT
END:VCALENDAR
