BEGIN:VCALENDAR
VERSION:2.0
PRODID:-//Jazz-Initiative Eifel e. V.//NONSGML kigkonsult.se iCalcreator 2.41.92//
CALSCALE:GREGORIAN
METHOD:PUBLISH
UID:35633031-3462-4134-a237-623638636431
X-WR-CALNAME:iCagenda
X-WR-CALDESC:Event Management Extension for Joomla!
X-WR-RELCALID:3E26604A-50F4-4449-8B3E-E4F4932D05B5
X-WR-TIMEZONE:UTC
BEGIN:VTIMEZONE
TZID:UTC
END:VTIMEZONE
BEGIN:VEVENT
UID:66306664-3266-4137-b663-636463313666
DTSTAMP:20260420T221426Z
CATEGORIES:Allgemein
CLASS:PUBLIC
DESCRIPTION;ALTREP="CID:<FFFF__=0ABBE548DFE235B58f9e8a93d@coffeebean.com>":
 Lazy Louis is a blues duo based in Namur (Belgium) and founded back in 201
 8. Patrick Louis and Tom Lehnert\, two renowned Bluesmen who frequent the 
 Blues clubs and venues in the BE-NE-LUX region\, have joined forces as a d
 uo to offer a unique formula: An explosive duo dedicated with heart and so
 ul to the Blues.\nTheir programme features a rootsy\, danceable\, melodic 
 and rhythmic music style that draws on standards (Junior Kimbrough\, R.L B
 urnside\, Robert Belfour\, Joe Callicott\, Son House\, Baby Face Leroy\, Y
 ank Rachell) as well as their own compositions.\nLazy Louis (guitar\, voca
 ls) and Tommy boy (drums\, percussion) will transport you to Mississippi\,
  deep into the soul of the blues with covers and originals that evoke the 
 smell of pure whisky! Oh Yeah!\nIn co-operation with Bluebird Music ASBL h
 ttps://blue-bird.lu/
DTSTART:20241010T203000Z
DTEND:20241010T230000Z
GEO:00;0
LOCATION:Liquid Bar
ORGANIZER:
SEQUENCE:1
SUMMARY:Lazy Louis Blues Duo
TRANSP:OPAQUE
URL:http://jazztaxi.de/alle-termine/469-lazy-louis-blues-duo/2024-10-10-20-
 30
END:VEVENT
END:VCALENDAR
