BEGIN:VCALENDAR
VERSION:2.0
PRODID:-//Jazz-Initiative Eifel e. V.//NONSGML kigkonsult.se iCalcreator 2.41.92//
CALSCALE:GREGORIAN
METHOD:PUBLISH
UID:31303763-3034-4261-a463-663566363034
X-WR-CALNAME:iCagenda
X-WR-CALDESC:Event Management Extension for Joomla!
X-WR-RELCALID:3E26604A-50F4-4449-8B3E-E4F4932D05B5
X-WR-TIMEZONE:UTC
BEGIN:VTIMEZONE
TZID:UTC
END:VTIMEZONE
BEGIN:VEVENT
UID:30396539-3038-4566-b766-643539393035
DTSTAMP:20260420T205313Z
CATEGORIES:Allgemein
CLASS:PUBLIC
DESCRIPTION;ALTREP="CID:<FFFF__=0ABBE548DFE235B58f9e8a93d@coffeebean.com>":
 Vocals and piano. Sascha Ley and Murat Öztürk come together in this classi
 cal and very intimate line-up to playfully indulge in their favourite stan
 dards as well as their own compositions\, with reminiscences of Abbey Linc
 oln\, Billie Holiday\, Kurt Weill …\nLine-up:\n\nSascha Ley – vocals\nMura
 t Öztürk – piano\n\nIn co-operation with Bluebird Music ASBL https://blue-
 bird.lu/
DTSTART:20241008T203000Z
DTEND:20241008T230000Z
GEO:00;0
LOCATION:Liquid Bar
ORGANIZER:
SEQUENCE:1
SUMMARY:Sascha Ley & Murat Öztürk
TRANSP:OPAQUE
URL:http://jazztaxi.de/alle-termine/468-sascha-ley-murat-oeztuerk/2024-10-0
 8-20-30
END:VEVENT
END:VCALENDAR
