BEGIN:VCALENDAR
VERSION:2.0
PRODID:-//Jazz-Initiative Eifel e. V.//NONSGML kigkonsult.se iCalcreator 2.41.92//
CALSCALE:GREGORIAN
METHOD:PUBLISH
UID:32663537-6231-4538-b736-623465306264
X-WR-CALNAME:iCagenda
X-WR-CALDESC:Event Management Extension for Joomla!
X-WR-RELCALID:3E26604A-50F4-4449-8B3E-E4F4932D05B5
X-WR-TIMEZONE:UTC
BEGIN:VTIMEZONE
TZID:UTC
END:VTIMEZONE
BEGIN:VEVENT
UID:65396265-6261-4465-a333-656537666533
DTSTAMP:20260420T222113Z
CATEGORIES:Allgemein
CLASS:PUBLIC
DESCRIPTION;ALTREP="CID:<FFFF__=0ABBE548DFE235B58f9e8a93d@coffeebean.com>":
 The Coal Street MinOrs is a Luxembourgish blues cover band based in Kayl/T
 étange and founded in 2013 by students of the School of Blues in Differdan
 ge.\nThe band’s musical influences can be found in traditional blues as we
 ll as Chicago blues\, rhythm ‘n blues and boogie which are garnished with 
 rock’n roll and rockabilly elements. The musical style can be defined as n
 o—nonsense and rough edged blues.\nLine-up:\n\nDavid Demontis (vocals\, bl
 ues harp)\nRodolfo Mammola (guitar)\nErny Sturm (guitar)\nGilberto Mammola
  (bass)\nCarlo “Geddy” Krausch (drums)\n\nIn co-operation with Bluebird Mu
 sic ASBL https://blue-bird.lu/
DTSTART:20241003T203000Z
DTEND:20241003T230000Z
GEO:00;0
LOCATION:Liquid Bar
ORGANIZER:
SEQUENCE:1
SUMMARY:The Coal Street MinOrs
TRANSP:OPAQUE
URL:http://jazztaxi.de/alle-termine/467-the-coal-street-minors/2024-10-03-2
 0-30
END:VEVENT
END:VCALENDAR
