BEGIN:VCALENDAR
VERSION:2.0
PRODID:-//Jazz-Initiative Eifel e. V.//NONSGML kigkonsult.se iCalcreator 2.41.92//
CALSCALE:GREGORIAN
METHOD:PUBLISH
UID:31663035-3165-4639-b836-643430383562
X-WR-CALNAME:iCagenda
X-WR-CALDESC:Event Management Extension for Joomla!
X-WR-RELCALID:3E26604A-50F4-4449-8B3E-E4F4932D05B5
X-WR-TIMEZONE:UTC
BEGIN:VTIMEZONE
TZID:UTC
END:VTIMEZONE
BEGIN:VEVENT
UID:65663739-3534-4264-b634-653730393562
DTSTAMP:20260420T205318Z
CATEGORIES:Jazzclub
CLASS:PUBLIC
DESCRIPTION;ALTREP="CID:<FFFF__=0ABBE548DFE235B58f9e8a93d@coffeebean.com>":
 Nils Thoma Constellation im Jazzclub Bitburg\n&nbsp\;Zum Abschluss des Jah
 res präsentiert die Jazz-Initiative mit der Nils-Thoma-Constellation einen
  ganz besonderen musikalischen Leckerbissen. Jazzfreunde werden dieses Ang
 ebot sicher wahrnehmen und das Konzert besuchen.\nDieses&nbsp\;Quintett&nb
 sp\;um&nbsp\;den&nbsp\;Trierer&nbsp\;Jazz-Club-Chef&nbsp\;Nils&nbsp\;Thoma
 &nbsp\;entstand&nbsp\;2020\, während&nbsp\;der&nbsp\;Coronazeit\,&nbsp\;un
 d&nbsp\;lieferte&nbsp\;damals&nbsp\;die&nbsp\;Musik&nbsp\;zu&nbsp\;Henrik&
 nbsp\;Ibsens&nbsp\;Theaterstück&nbsp\;„Der&nbsp\;Volksfeind“.&nbsp\;Damit&
 nbsp\;ist&nbsp\;auch&nbsp\;bereits&nbsp\;grundlegend&nbsp\;eine&nbsp\;wich
 tige&nbsp\;Linie&nbsp\;beschrieben:\n&nbsp\;Alle&nbsp\;Stücke&nbsp\;dieser
 &nbsp\;Band&nbsp\;sind&nbsp\;eigene&nbsp\;KomposiJonen&nbsp\;von&nbsp\;Tho
 ma&nbsp\;und&nbsp\;seinen Bandkollegen\,&nbsp\;nämlich&nbsp\;&nbsp\;die&nb
 sp\;&nbsp\;Integration&nbsp\;&nbsp\;sowohl&nbsp\;&nbsp\;der&nbsp\;&nbsp\;s
 ogenannten&nbsp\;&nbsp\;E- Musik&nbsp\; als&nbsp\;&nbsp\;auch&nbsp\;&nbsp\
 ;des&nbsp\;&nbsp\;norwegisch-nordischen&nbsp\;Folk&nbsp\;in&nbsp\;eine&nbs
 p\;jazzige&nbsp\;Stilistik.&nbsp\;\nUnd&nbsp\;dann&nbsp\;die&nbsp\;Instrum
 entierung:&nbsp\;ein&nbsp\;auch&nbsp\;Akkordeon&nbsp\;spielender&nbsp\;Pia
 nist\,&nbsp\;ein&nbsp\;das&nbsp\;Flü-gelhorn&nbsp\;bedienender&nbsp\;Schla
 gzeuger\,&nbsp\;der&nbsp\;Blockﬂöten&nbsp\;und&nbsp\;Blaswandler&nbsp\;ein
 setzende&nbsp\;Sax--ophonist&nbsp\;plus&nbsp\;–&nbsp\;notabene&nbsp\;– Vio
 loncello&nbsp\;und&nbsp\;Kontrabass&nbsp\;…&nbsp\;\nAuf&nbsp\;dieser&nbsp\
 ;Ebene&nbsp\;entstehen&nbsp\;ganz&nbsp\;einzigartJge&nbsp\;Klangkombinatio
 nen\,&nbsp\;die&nbsp\;trotzdem&nbsp\;sehr&nbsp\;vertraut&nbsp\;klingen\,&n
 bsp\;&nbsp\;weil&nbsp\;&nbsp\;hier&nbsp\;&nbsp\;der&nbsp\;&nbsp\;improvisi
 erende&nbsp\;&nbsp\;Jazz&nbsp\;&nbsp\;auf&nbsp\;&nbsp\;die&nbsp\;&nbsp\;im
 &nbsp\;&nbsp\;westlichen&nbsp\;&nbsp\;Kollek-tivgedächtnis&nbsp\;&nbsp\;fe
 st&nbsp\;&nbsp\;verankerte&nbsp\;„klassische“&nbsp\;Musik&nbsp\;trifft. „S
 o&nbsp\;schön&nbsp\;kann&nbsp\;Jazz&nbsp\;sein!“&nbsp\;möchte&nbsp\;man&nb
 sp\;dem&nbsp\;geneigten&nbsp\;Zuhörer&nbsp\;zurufen\,&nbsp\;und&nbsp\;„sit
 &nbsp\;down\,&nbsp\;close&nbsp\;your&nbsp\;eyes\,&nbsp\;and relax!“.\nDies
 es Monday Night Jazzkonzert findet statt am Montag\, 09. Dezember&nbsp\; 2
 024\, Beginn 20 Uhr im Jazz Ballroom im Bowling Center Bitburg\, Charles-L
 indbergh-Allee 5.\nDer Eintritt ist frei.
DTSTART:20241209T200000Z
DTEND:20241209T200000Z
GEO:00;0
LOCATION:Jazz-Ballroom im Bowling Center Bitburg\, Charles-Lindbergh-Allee 
 5
ORGANIZER:
SEQUENCE:1
SUMMARY:Nils Thoma Constellation im Jazzclub Bitburg
TRANSP:OPAQUE
URL:http://jazztaxi.de/alle-termine/461-nils-thoma-constellation-im-jazzclu
 b-bitburg/2024-12-09-20-00
END:VEVENT
END:VCALENDAR
