BEGIN:VCALENDAR
VERSION:2.0
PRODID:-//Jazz-Initiative Eifel e. V.//NONSGML kigkonsult.se iCalcreator 2.41.92//
CALSCALE:GREGORIAN
METHOD:PUBLISH
UID:30623438-6266-4361-b735-303932633332
X-WR-CALNAME:iCagenda
X-WR-CALDESC:Event Management Extension for Joomla!
X-WR-RELCALID:3E26604A-50F4-4449-8B3E-E4F4932D05B5
X-WR-TIMEZONE:UTC
BEGIN:VTIMEZONE
TZID:UTC
END:VTIMEZONE
BEGIN:VEVENT
UID:32386333-3834-4163-b966-623662633665
DTSTAMP:20260420T194147Z
CATEGORIES:Allgemein
CLASS:PUBLIC
DESCRIPTION;ALTREP="CID:<FFFF__=0ABBE548DFE235B58f9e8a93d@coffeebean.com>":
 Das Album lädt dazu ein\, die ganze Intensität und Tiefe des außergewöhnli
 chen luxemburgischen Pianisten und Komponisten zu entdecken. Um sein persö
 nliches Universum zu erschaffen\, lässt Arthur Possing sich vom Singer-Son
 gwriter-Format inspirieren und versucht\, die Essenz des Liedes im Herzen 
 seiner Musik zu verankern. Das Ergebnis ist ein beeindruckendes Geflecht a
 us Chanson-Covern\, freien Improvisationen und Eigenkompositionen!\nErwach
 sene: 26 € | Cube Card: 21 € | &lt\; 26 Jahren: 12 €Reservierung: info@cub
 e521.lu | + 352 521 521 |&nbsp\;www.cube521.lu\n&nbsp\;Foto © Eric Engel
DTSTART:20250118T200000Z
DTEND:20250118T220000Z
GEO:00;0
LOCATION:Cube 521
ORGANIZER;CN=:mailto:info@cube521.lu
SEQUENCE:1
SUMMARY:Arthur Possing
TRANSP:OPAQUE
URL:http://jazztaxi.de/alle-termine/453-arthur-possing-2/2025-01-18-20-00
END:VEVENT
END:VCALENDAR
