BEGIN:VCALENDAR
VERSION:2.0
PRODID:-//Jazz-Initiative Eifel e. V.//NONSGML kigkonsult.se iCalcreator 2.41.92//
CALSCALE:GREGORIAN
METHOD:PUBLISH
UID:61626266-6163-4435-b538-656237373330
X-WR-CALNAME:iCagenda
X-WR-CALDESC:Event Management Extension for Joomla!
X-WR-RELCALID:3E26604A-50F4-4449-8B3E-E4F4932D05B5
X-WR-TIMEZONE:UTC
BEGIN:VTIMEZONE
TZID:UTC
END:VTIMEZONE
BEGIN:VEVENT
UID:39336362-6365-4366-b331-393732323537
DTSTAMP:20260420T220550Z
CATEGORIES:Kulturbrauerei im Brauhaus Prüm
CLASS:PUBLIC
DESCRIPTION;ALTREP="CID:<FFFF__=0ABBE548DFE235B58f9e8a93d@coffeebean.com>":
 e„Der Eva-Code“&nbsp\; Reservierung unter 0171/4888925 ist erforderlich.\n
 In dem Kabarett „Der Eva-Code“ schlüpft Claudia Stump in verschiedene Roll
 en – nicht nur weibliche - und wirft einen kritischen und amüsierten Blick
  auf das Thema Emanzipation.\nMit scharfsinniger Genauigkeit gestaltet sie
  verschiedene Repräsentantinnen der modernen Frau: eine selbständige Frise
 urin\, eine Männerversteherin und eine ausgebrannte Karrierefrau. Ihre Wan
 dlungsfähigkeit beweist sie als enthusiastische Jungmutter kurz vor der En
 tbindung und als renitent emanzipierte bairische Staatsanwältin. Dabei bez
 ieht sie die Kommentare aus dem Publikum gekonnt in ihre Texte mit ein und
  katapultiert sich in ausweglose Emanzipationsfallen hinein. Mit Charme un
 d Gesang zieht sie sich am eigenen Schopf aus der Patsche und amüsiert die
  Zuschauerinnen aufs Beste.\n​Eine turbulente Mischung aus Kabarett und Th
 eater\, Gesang und Poesie - nicht nur für das weibliche Publikum.\nZur Per
 son:Die gebürtige Rheinländerin Claudia Stump ist ausgebildete Schauspiele
 rin mit Erfahrungen quer durch Theater und Kleinkunstbühnen der Republik. 
 Seit 1990 steht sie auf der Bühne\, vor der Kamera und schreibt eigene Stü
 cke. Mittlerweile führt sie ein eigenes kleines Theater im rheinland-pfälz
 ischen Hoppstädten\, den Sommersaal.\nAN DIESEM ABEND BLEIBTDIE KÜCHE IM B
 RAUHAUS GESCHLOSSEN WIR SERVIEREN EIN ZUM THEMA DES ABENDS PASSENDES MARTI
 NSGEDECK:
DTSTART:20241110T200000Z
DTEND:20241110T200000Z
GEO:00;0
LOCATION:Prümer Brauhaus
ORGANIZER;CN=:mailto:info@kulturfreunde-pruem.de
SEQUENCE:1
SUMMARY:Der Eva Code Cabarett im Brauhaus
TRANSP:OPAQUE
URL:http://jazztaxi.de/alle-termine/441-der-eva-code-cabarett-im-brauhaus/2
 024-11-10-20-00
END:VEVENT
END:VCALENDAR
