BEGIN:VCALENDAR
VERSION:2.0
PRODID:-//Jazz-Initiative Eifel e. V.//NONSGML kigkonsult.se iCalcreator 2.41.92//
CALSCALE:GREGORIAN
METHOD:PUBLISH
UID:33346236-3437-4837-b562-343530636235
X-WR-CALNAME:iCagenda
X-WR-CALDESC:Event Management Extension for Joomla!
X-WR-RELCALID:3E26604A-50F4-4449-8B3E-E4F4932D05B5
X-WR-TIMEZONE:UTC
BEGIN:VTIMEZONE
TZID:UTC
END:VTIMEZONE
BEGIN:VEVENT
UID:36383662-3739-4363-b165-343436373132
DTSTAMP:20260420T221845Z
CATEGORIES:Jazzclub im Prümer Brauhaus
CLASS:PUBLIC
DESCRIPTION;ALTREP="CID:<FFFF__=0ABBE548DFE235B58f9e8a93d@coffeebean.com>":
 2 Profis im Urlaub ?\nHeißt das Programm der beiden Ausnahmekünstler Flori
 an Esch und Uli Brodersen\, die mit einem Augenzwinkern auf einen 'Action-
 Urlaub mit allen Abenteuern' hinweisen.\nFloran Eschs Vita zu wiederholen\
 , hieße\, Eulen nach Athen zu tragen. Er ist Eifeler 'Jung' und als solche
 r immer mit gesundem Menschenverstand\, Witz und Engagement unterwegs. Sei
 n Freund Uli Brodersen wäre nicht sein Freund\, wenn nicht ähnliche Attrib
 ute auf ihn zutreffen würden. Er kommt zwar nicht aus Prüm\, ist aber der 
 beste Gitarrist\, den man für die Begleitung einer Trompete oder eines Flü
 gelhorns gewinnen kann. Das Duo verspricht an diesem Abend nicht nur einen
  schilligen Urlaub\, sondern beide zeigen\, was in ihnen steckt. Dabei sto
 ßen sie mit ihrem Programm die Tür zur 5. Dimension auf. So wird an diesem
  Abend nicht nur die 13. enharmonische Verwechslung zu hören sein\, sonder
 n auch mindestens ein Walzer im 4/4-Takt. Das Publikum darf sich auf noch 
 nie dagewesene Klangkombinationen aus der Feder der beiden Protagonisten f
 reuen\, auf die wir seit Jahren warten mussten.\n&nbsp\;
DTSTART:20241002T200000Z
DTEND:20241002T200000Z
GEO:00;0
LOCATION:Prümer Brauhaus
ORGANIZER;CN=:mailto:info@jazzei.de
SEQUENCE:1
SUMMARY:Florian Esch und Uli Brodersen Duo im Prümer Brauhaus
TRANSP:OPAQUE
URL:http://jazztaxi.de/alle-termine/440-florian-esch-und-uli-brodersen-duo-
 im-pruemer-brauhaus/2024-10-02-20-00
END:VEVENT
END:VCALENDAR
