BEGIN:VCALENDAR
VERSION:2.0
PRODID:-//Jazz-Initiative Eifel e. V.//NONSGML kigkonsult.se iCalcreator 2.41.92//
CALSCALE:GREGORIAN
METHOD:PUBLISH
UID:34663835-6564-4930-b262-356465346135
X-WR-CALNAME:iCagenda
X-WR-CALDESC:Event Management Extension for Joomla!
X-WR-RELCALID:3E26604A-50F4-4449-8B3E-E4F4932D05B5
X-WR-TIMEZONE:UTC
BEGIN:VTIMEZONE
TZID:UTC
END:VTIMEZONE
BEGIN:VEVENT
UID:34363561-3532-4039-b437-353465633031
DTSTAMP:20260420T194518Z
CATEGORIES:Kulturfreunde-Pruem
CLASS:PUBLIC
DESCRIPTION;ALTREP="CID:<FFFF__=0ABBE548DFE235B58f9e8a93d@coffeebean.com>":
 Konzert in Prüm: Diese Band sorgt am ersten Weihnachtstag für Stimmung&nbs
 p\;\nWeihnachtsfire mit den Acapulco Firebirds\nPrüm&nbsp\;·&nbsp\;Die Prü
 mer Projektfete\, mehr als 30 Jahre lang fester Termin im Konzertkalender 
 der Abteistadt\, ist wohl Geschichte. Aber eine der Stamm-Bands bietet am 
 1. Weihnachtstag leidenschaftlichen Ersatz. Mit Verstärkung.
DTSTART:20241225T200000Z
DTEND:20241225T200000Z
GEO:00;0
LOCATION:Prümer Brauhaus
ORGANIZER;CN=:mailto:info@kulturfreunde-pruem.de
SEQUENCE:1
SUMMARY:WeihnachtsFire mit Acapulco Firebirds im Prümer Brauhaus
TRANSP:OPAQUE
URL:http://jazztaxi.de/alle-termine/439-weihnachtsfire-mit-acapulco-firebir
 ds-im-pruemer-brauhaus/2024-12-25-20-00
END:VEVENT
END:VCALENDAR
