BEGIN:VCALENDAR
VERSION:2.0
PRODID:-//Jazz-Initiative Eifel e. V.//NONSGML kigkonsult.se iCalcreator 2.41.92//
CALSCALE:GREGORIAN
METHOD:PUBLISH
UID:63636134-3837-4962-a464-346266613965
X-WR-CALNAME:iCagenda
X-WR-CALDESC:Event Management Extension for Joomla!
X-WR-RELCALID:3E26604A-50F4-4449-8B3E-E4F4932D05B5
X-WR-TIMEZONE:UTC
BEGIN:VTIMEZONE
TZID:UTC
END:VTIMEZONE
BEGIN:VEVENT
UID:32626363-3064-4631-b237-303433326237
DTSTAMP:20260420T222040Z
CATEGORIES:Jazzclub im Prümer Brauhaus
CLASS:PUBLIC
DESCRIPTION;ALTREP="CID:<FFFF__=0ABBE548DFE235B58f9e8a93d@coffeebean.com>":
 Slaugtherhouse JB\nFröhlich\, locker und mit großem Engagement unterhält&n
 bsp\;die Slaughterhouse Jazzband ihr Publikum seit 30 Jahren. Die Band ist
  der Jazzinitiative seit dem ersten&nbsp\;Prümer Jazzstag 1997 verbunden.&
 nbsp\;Gastspiele führten sie nach New Orleans und zu den größten und wicht
 igsten europäischen Oldtimejazz und Dixie-Festivals. Qualifiziert haben si
 e sich für diese Konzertreisen durch Workshops bei der Jazz-Initiative Eif
 el und durch die Einladung erfahrener und international gefragter Gastmusi
 ker zu ihren eigenen Auftritten.&nbsp\;Im Repertoire hat die Band im Dezem
 ber internationale&nbsp\;Weihnachtslieder.
DTSTART:20241204T200000Z
DTEND:20241204T200000Z
GEO:00;0
LOCATION:Prümer Brauhaus
ORGANIZER;CN=:mailto:info@jazzei.de
SEQUENCE:1
SUMMARY:Santa Klaus meets Jazz im Prümer Brauhaus
TRANSP:OPAQUE
URL:http://jazztaxi.de/alle-termine/438-santa-klaus-meets-jazz-im-pruemer-b
 rauhaus/2024-12-04-20-00
END:VEVENT
END:VCALENDAR
