BEGIN:VCALENDAR
VERSION:2.0
PRODID:-//Jazz-Initiative Eifel e. V.//NONSGML kigkonsult.se iCalcreator 2.41.92//
CALSCALE:GREGORIAN
METHOD:PUBLISH
UID:35616530-3163-4432-b364-306130316438
X-WR-CALNAME:iCagenda
X-WR-CALDESC:Event Management Extension for Joomla!
X-WR-RELCALID:3E26604A-50F4-4449-8B3E-E4F4932D05B5
X-WR-TIMEZONE:UTC
BEGIN:VTIMEZONE
TZID:UTC
END:VTIMEZONE
BEGIN:VEVENT
UID:64343732-3135-4432-b839-316166383735
DTSTAMP:20260420T221725Z
CATEGORIES:Allgemein
CLASS:PUBLIC
DESCRIPTION;ALTREP="CID:<FFFF__=0ABBE548DFE235B58f9e8a93d@coffeebean.com>":
 Genau 10 Tage vor Heiligabend kommt die Pianistin YOUNEE mit einem besonde
 ren Programm – abgestimmt auf die Jahreszeit - erstmalig nach Luxemburg!&n
 bsp\;Mit überwältigender Improvisationskraft und der besonderen Gabe\, liv
 e auf einem klassischen Fundament spontan und frei zu improvisieren\, defi
 niert YOUNEE ihre eigene Stilart: Free Classic &amp\; Jazz.\nWenn die prei
 sgekrönte Pianistin\, Sängerin und Komponistin aus Südkorea - YOUNEE\, mit
  ihrem besonderen Anschlag über die Tastatur saust\, heben sich die Grenze
 n zwischen den Genres auf\, verschmelzen Klangwelten und zwischen weit aus
 einander liegenden Epochen liegen oft nur wenige Takte. Sie gehört ohne Zw
 eifel zu den seltenen PianistInnen weltweit\, die fließend in wenigen Seku
 nden zwischen Klassik und Jazz hin und her wechseln können. Wer sie heute 
 hört\, bekommt auch eine Ahnung davon\, dass Younee in ihrer Heimat einst 
 u.a. auch mit Pop-Musik erfolgreich war und Top Ten-Songs schrieb. Später 
 ist sie nach London gezogen\, wo sie mit Jazzgrößen wie Gary Husband\, Nig
 el Hitchcock oder Richard Cottle zusammengearbeitet hat.\nWie Younee ihre 
 Musik live für ihr Publikum darbietet\, ist nicht nur äußerst charmant\, e
 s ist jedes Mal\, als würde sie ihre Musik nochmals neu erfinden. So lädt 
 sie ein zu einer hochemotionalen Reise in eine neue Welt der Klaviermusik.
  Bis zum letzten Ton passiert alles intuitiv\, spontan und unerwartet\, oh
 ne in kitschige Gefilde abzugleiten. 'That's me\, das bin ich!”\, wie Youn
 ee ihre Musik selbst beschreibt.\nEs erwartet Sie ein vorweihnachtlicher K
 onzertabend mit einer außergewöhnlichen Künstlerin – eine besondere Sterns
 tunde kurz vor Weihnachten!\n&nbsp\;\nFoto © All rights reserved
DTSTART:20241214T200000Z
DTEND:20241214T230000Z
GEO:00;0
LOCATION:Cube 521
ORGANIZER;CN=:mailto:info@cube521.lu
SEQUENCE:1
SUMMARY:Younee | Christmas Tour
TRANSP:OPAQUE
URL:http://jazztaxi.de/alle-termine/435-younee-christmas-tour/2024-12-14-20
 -00
END:VEVENT
END:VCALENDAR
