BEGIN:VCALENDAR
VERSION:2.0
PRODID:-//Jazz-Initiative Eifel e. V.//NONSGML kigkonsult.se iCalcreator 2.41.92//
CALSCALE:GREGORIAN
METHOD:PUBLISH
UID:37373061-3965-4561-b363-376333643937
X-WR-CALNAME:iCagenda
X-WR-CALDESC:Event Management Extension for Joomla!
X-WR-RELCALID:3E26604A-50F4-4449-8B3E-E4F4932D05B5
X-WR-TIMEZONE:UTC
BEGIN:VTIMEZONE
TZID:UTC
END:VTIMEZONE
BEGIN:VEVENT
UID:61386532-6538-4835-b832-343936643565
DTSTAMP:20260420T165453Z
CATEGORIES:Allgemein
CLASS:PUBLIC
DESCRIPTION;ALTREP="CID:<FFFF__=0ABBE548DFE235B58f9e8a93d@coffeebean.com>":
 Vincent Peirani : Akkordeon Emile Parisien : Saxophon Tony Paeleman : Fend
 er Rhodes Julien Herné : Bass Yoann Serra : Schlagzeug\nLiving Being. Als 
 Gewinner der « Victoires du Jazz » 2014 und 2015 gilt der atemberaubende V
 irtuose am Knopfakkordeon als kommende Größe der Extraklasse! Der französi
 sche Starsolist der internationalen Akkordeon-Szene vertritt eine neue Gen
 eration von Jazz-Musikern\, besticht durch ausdrucksstarke Kompositionen i
 ndem er das Akkordeon aus den Fesseln der Nostalgie befreit.\nPeirani begi
 nnt zunächst eine klassische musikalische Laufbahn mit dem Akkordeon. Scho
 n im Teenageralter gewinnt er zahlreiche internationale Preise und überzeu
 gt mit seinem ganz neuen Blick auf das Instrument. Mit 16 entdeckt er den 
 Jazz\, macht sich in der Jazzszene Frankreichs einen Namen und spielt schn
 ell mit der Crème de la Crème des französischen Jazz. Peirani gehört der j
 ungen Musikergeneration an\, die keine Grenzen im Spiel kennen und die ihr
  Instrument immer wieder neu definiert. Nach der großen französischen Akko
 rdeontradition des Richard Galliano\, öffnet Vincent Peirani in Ton und Te
 chnik neue Horizonte und einen ganz eignen Stil. Neben seinen Soloprojekte
 n\, ist er immer wieder im Duo und im Quartett mit namhaften Musikern zu h
 ören. Er spielte u.a. mit Michel Portal\, Richard Bona\, Renaud Garcia Fon
 s\, Yaron Herman\, Daniel Humair\, Youn Sun Nah... Mit dem Album Thrill Bo
 x begann seine Zusammenarbeit mit dem renommierten Jazzlabel ACT bei dem a
 uch das Album Living Being mit seinem Quintett erschienen ist. Seine facet
 tenreiche Kompositionen und Neuinterpretationen am Akkordeon zeichnen sich
  durch eine extreme Reife und Virtuosität aus\, die nicht ohne Humor und S
 pielwitz einhergehen. Für seinen Variationsreichtum\, technische Höchstsch
 wierigkeiten und seine perkussiven Einfälle wurde er vom französischen „Ja
 zz Magazine“ zum Künstler des Jahres 2013 sowie mit dem „Prix Django Reinh
 ardt“ ausgezeichnet. (Foto: Dean Bennici)\n&nbsp\;\nFr\, 26.10.2018 / 20H0
 0\nErwachsene: 25 € / Cube Card: 20 € / &lt\; 26 Jahren: 12 €\nKartenvorve
 rkauf: + 352 521 521 / info@cube521.lu / www.cube521.lu\n&nbsp\;\nCube 521
 \n1-3\, Driicht L-9764 Marnach
DTSTART:20181026T200000Z
DTEND:20181026T200000Z
GEO:00;0
LOCATION:Cube 521
ORGANIZER;CN=:mailto:info@cube521.lu
SEQUENCE:1
SUMMARY:Vincent Peirani Quintet - Night Walker
TRANSP:OPAQUE
URL:http://jazztaxi.de/alle-termine/43-vincent-peirani-quintet-night-walker
 /2018-10-26-20-00
END:VEVENT
END:VCALENDAR
