BEGIN:VCALENDAR
VERSION:2.0
PRODID:-//Jazz-Initiative Eifel e. V.//NONSGML kigkonsult.se iCalcreator 2.41.92//
CALSCALE:GREGORIAN
METHOD:PUBLISH
UID:33636138-3962-4265-b532-623962383162
X-WR-CALNAME:iCagenda
X-WR-CALDESC:Event Management Extension for Joomla!
X-WR-RELCALID:3E26604A-50F4-4449-8B3E-E4F4932D05B5
X-WR-TIMEZONE:UTC
BEGIN:VTIMEZONE
TZID:UTC
END:VTIMEZONE
BEGIN:VEVENT
UID:64393765-6336-4137-b032-353262303433
DTSTAMP:20260420T205319Z
CATEGORIES:Matinee
CLASS:PUBLIC
DESCRIPTION;ALTREP="CID:<FFFF__=0ABBE548DFE235B58f9e8a93d@coffeebean.com>":
 Der Weg zur Bühne – ein Lesekonzert mit Karin Melchert im Schloss Weilerba
 ch\nVom Eifelkind zur Sängerin nennt Karin Melchert ihr Buch im Untertitel
 . Es ist eine spritzige Liebesgeschichte aus den 80ern über den holprigen 
 Weg eines Eifelmädels zum Traumberuf\, mit viel Herz\, Musik und Humor. Ka
 rin liest aus diesem Buch und singt Lieder aus den achtziger Jahren. Sie w
 ird&nbsp\; begleitet von Andreas Hirschmann am Klavier.\nBereits mit 6 Jah
 ren sammelt Karin Melchert erste Bühnenerfahrungen als Sängerin\, 1998 wir
 d aus dem Hobby Beruf.&nbsp\;Seit über 25 Jahren arbeitet&nbsp\;die Sänger
 in &amp\; Songwriterin als Stimmtrainerin für Sänger und Sprecher und schr
 iebt Bücher\, in denen sich vieles um Musik und Singen dreht. 2013\nwird s
 ie 2013 in ihrer Wahlheimat Luxemburg mit der Ritterwürde ausgezeichnet.\n
 Andreas Hirschmann absolviert eine&nbsp\;klassische Klavierausbildung am K
 onservatorium Köln und ist u.a.&nbsp\;gelernter Kirchenorganist.&nbsp\;Sei
 t 1998 ist er Pianist und musikalischer Leiter&nbsp\;am Düsseldorfer Schau
 spielhaus und Schauspielhaus Köln.\nDiese Matinée findet statt am Sonntag\
 , 27. Oktober 2024 von 11 – 12.30 Uhr im Festsaal des Schlosses Weilerbach
  bei Bollendorf.\nDas Ticket kostet 12 Euro\, wer anschließend in der Remi
 se auch noch essen möchte\, zahlt 30\,00 Euro. Schüler und Studenten erhal
 ten auf den Eintrittspreis einen Nachlass von 6\,00 Euro.\nKarten gibt es 
 im Vorverkauf unter Fon 06561-154270.\nDie Matinee im Schloss&nbsp\; ist e
 ine Gemeinschaftsveranstaltung der Jazz-Initiative Eifel und der Schloss-W
 eilerbach-Gesellschaft.&nbsp\;
DTSTART:20241027T110000Z
DTEND:20241027T110000Z
GEO:00;0
LOCATION:Schloss Weilerbach/Bollendorf
ORGANIZER:
SEQUENCE:1
SUMMARY:Der Weg zur Bühne – ein Lesekonzert mit Karin Melchert im Schloss W
 eilerbach
TRANSP:OPAQUE
URL:http://jazztaxi.de/alle-termine/427-der-weg-zur-buehne-ein-lesekonzert-
 mit-karin-melchert-im-schloss-weilerbach/2024-10-27-11-00
END:VEVENT
END:VCALENDAR
