BEGIN:VCALENDAR
VERSION:2.0
PRODID:-//Jazz-Initiative Eifel e. V.//NONSGML kigkonsult.se iCalcreator 2.41.92//
CALSCALE:GREGORIAN
METHOD:PUBLISH
UID:34373831-6262-4139-b238-666262616137
X-WR-CALNAME:iCagenda
X-WR-CALDESC:Event Management Extension for Joomla!
X-WR-RELCALID:3E26604A-50F4-4449-8B3E-E4F4932D05B5
X-WR-TIMEZONE:UTC
BEGIN:VTIMEZONE
TZID:UTC
END:VTIMEZONE
BEGIN:VEVENT
UID:30353863-6466-4232-b061-333331613064
DTSTAMP:20260420T205453Z
CATEGORIES:Allgemein
CLASS:PUBLIC
DESCRIPTION;ALTREP="CID:<FFFF__=0ABBE548DFE235B58f9e8a93d@coffeebean.com>":
 'Ada's Dream' - Ladies in Swing und Jazz &nbsp\;- Großes Jazzkonzert im Fe
 stsaal des Hauses Beda\n„Dieses Damenjazz-Quartett ist allererste Sahne\, 
 die Creme de la Creme des deutschen Jazz“\, so ein Veranstalter bei der An
 kündigung dieses Jazzkonzertes. Und diese vier Damen sind Sabine Kühlich: 
 Gesang / Altsaxophon\, Kristina Brodersen: Altsaxophon\, Laia Genc: Klavie
 r / Gesang und Caris Hermes: Bass.\nEs ist ein Quartett mit Feingefühl und
  Energie. Das Programm der Vier begibt sich neben den eigenen&nbsp\; Liebl
 ingssongs auch auf die Spuren großer Frauen und ihrer großen Lebenswerke. 
 Und das aus gutem Grund\, denn es gibt so viel\nzu entdecken und wiederzue
 ntdecken! Anders ausgedrückt: Es spielen 4 Komponistinnen\, 4 Interpretinn
 en des Great American Songbook\, 4 mal viel Spaß und Improvisationskraft\,
  4 Preisträgerinnen\, 4 mal Liebe zum musikalischen Detail. Esprit hoch 4 
 ist garantiert!&nbsp\; Dem ist nichts hinzuzufügen.\nDieses Jazzkonzert de
 r Extraklasse findet statt am Montag\, 18. 11. 2024\, Beginn 20 Uhr im Fes
 tsaal des Hauses Beda. Tickets 15/5 Euro. Reservierung unter 06561-96450.
 \nDas Konzert ist eine Gemeinschaftsveranstaltung der Jazz-Initiative Eife
 l und der Dr.-Hanns-Simon-Stiftung.\n&nbsp\;
DTSTART:20241118T200000Z
DTEND:20241118T200000Z
GEO:00;0
LOCATION:Festsaal Haus Beda Bitburg
ORGANIZER:
SEQUENCE:1
SUMMARY:'Ada's Dream' - Ladies in Swing und Jazz  - Großes Jazzkonzert im F
 estsaal des Hauses Beda
TRANSP:OPAQUE
URL:http://jazztaxi.de/alle-termine/426-adas-dream-ladies-in-swing-und-jazz
 -grosses-jazzkonzert-im-festsaal-des-hauses-beda/2024-11-18-20-00
END:VEVENT
END:VCALENDAR
