BEGIN:VCALENDAR
VERSION:2.0
PRODID:-//Jazz-Initiative Eifel e. V.//NONSGML kigkonsult.se iCalcreator 2.41.92//
CALSCALE:GREGORIAN
METHOD:PUBLISH
UID:33343936-6234-4835-a437-393263373132
X-WR-CALNAME:iCagenda
X-WR-CALDESC:Event Management Extension for Joomla!
X-WR-RELCALID:3E26604A-50F4-4449-8B3E-E4F4932D05B5
X-WR-TIMEZONE:UTC
BEGIN:VTIMEZONE
TZID:UTC
END:VTIMEZONE
BEGIN:VEVENT
UID:38333066-6164-4336-b430-623863343962
DTSTAMP:20260420T165016Z
CATEGORIES:Allgemein
CLASS:PUBLIC
DESCRIPTION;ALTREP="CID:<FFFF__=0ABBE548DFE235B58f9e8a93d@coffeebean.com>":
 Viktor Lazlo - Gesang Michel Bisceglia - Klavier Patrick Deltenre - Gitarr
 e Werner Lauscher - Bass Marc Léhan - Schlagzeug\nAllround-Talent Viktor L
 azlo (Gewinnerin fünf goldener Schallplatten)\, Schauspielerin und Autorin
  stellt nun ihr neues Album vor: Indem sie uns Einblick in ihr Innerstes g
 ewährt\, schafft die bezaubernde Künstlerin mit WOMAN eine Hommage an die 
 Frau an sich.\n„On ne naît pas femme\, on le devient.“ Simone de Beauvoir
 \nDie bekannte\, 1960 in Lorient geborene\, französische Schauspielerin un
 d Sängerin\, Kult-Ikone Viktor Lazlo begeistert seit Jahren ihr Publikum\,
  feierte große Erfolge mit Breathless oder Canoë Rose\, ... moderierte den
  Grand Prix Eurovision aus Belgien\, stellt jetzt nach der 2016 erschienen
 en Single Promised Land endlich ihr neues Album WOMAN vor. Seit nun zehn J
 ahren arbeitet Viktor Lazlo mit dem Komponisten Michel Bisceglia zusammen\
 , der sich für die Kompositionen verantwortlich zeichnet. Nach der erfolgr
 eichen Show „3 Femmes“ über drei bedeutende Stimmen des Jazz\, über drei S
 chicksale farbiger Musikerinnen in einem rassistischen Amerika: Sarah Vaug
 han\, Ella Fitzgerald und Billie Holiday\, folgt nun ein vielversprechende
 r Abend mit sehr persönlichen Liedern\, verträumt poetisch\, nostalgisch\,
  mit Liedern über Themen die sie\, Frau\, bewegen. Viktor Lazlo\, das Allr
 ound-Talent mit karibischen Wurzeln\, hat im Laufe ihrer Karriere mehr als
  10 Alben veröffentlicht\, in 25 Filmen gespielt\, spielt Theater unter de
 r Regie von Eric-Emmanuel Schmitt\, schreibt gerade an ihrem vierten Buch.
  Sie spielt Geige\, studierte Archäologie und Kunstgeschichte. Sie arbeite
 te als Model für Chantal Thomass\, wird für Thierry Mugler die Muse\, die 
 ihn zu seiner Mode inspiriert. Die Sängerin mit der großen Stimme arbeitet
 e unter anderem mit David Linx\, Serge Gainsbourg\, Bernard Lavilliers\, F
 rançoise Hardy\, oder dem&nbsp\; Count Basie Orchestra zusammen.&nbsp\;(Fo
 to: Vanessa Filho)\n&nbsp\;\nFr\, 12.10.2018 / 20H00\nErwachsene: 25 € / C
 ube Card: 20 € / &lt\; 26 Jahren: 12 €\nDauer: ca. 90 Minuten\, keine Paus
 e\nKartenvorverkauf: + 352 521 521 / info@cube521.lu / www.cube521.lu\n&nb
 sp\;\nCube 521\n1-3\, Driicht L-9764 Marnach
DTSTART:20181012T200000Z
DTEND:20181012T200000Z
GEO:00;0
LOCATION:Cube 521
ORGANIZER;CN=:mailto:info@cube521.lu
SEQUENCE:1
SUMMARY:Viktor Lazlo
TRANSP:OPAQUE
URL:http://jazztaxi.de/alle-termine/42-viktor-lazlo/2018-10-12-20-00
END:VEVENT
END:VCALENDAR
