BEGIN:VCALENDAR
VERSION:2.0
PRODID:-//Jazz-Initiative Eifel e. V.//NONSGML kigkonsult.se iCalcreator 2.41.92//
CALSCALE:GREGORIAN
METHOD:PUBLISH
UID:65313837-3437-4264-a139-356561376462
X-WR-CALNAME:iCagenda
X-WR-CALDESC:Event Management Extension for Joomla!
X-WR-RELCALID:3E26604A-50F4-4449-8B3E-E4F4932D05B5
X-WR-TIMEZONE:UTC
BEGIN:VTIMEZONE
TZID:UTC
END:VTIMEZONE
BEGIN:VEVENT
UID:35343433-6634-4437-b661-353062653632
DTSTAMP:20260420T153902Z
CATEGORIES:Allgemein
CLASS:PUBLIC
DESCRIPTION;ALTREP="CID:<FFFF__=0ABBE548DFE235B58f9e8a93d@coffeebean.com>":
 Morph ist eine Band\, die sich musikalisch wie konzeptionell keine Grenzen
  setzt. Dies fällt auch schon bei der Besetzung ins Auge\, da es nicht wie
  üblich einen\, sondern direkt zwei Bässe in der Quintett-Formation zu erl
 eben gibt. Kontrabass\, E-Bass\, Gitarre\, Reeds und Schlagzeug bilden ein
 e Band\, in der auf der Grundlage von Jazz und improvisierter Musik alles 
 mögliche passieren kann.Klangliche Landschaften können auf Neue Musik\, Fr
 ee Jazz\, Songstrukturen oder Rocksounds und auf modernen Jazz treffen. Du
 rch die Persönlichkeiten und den Erfahrungsschatz der einzelnen Musiker\, 
 gepaart mit gekonnter Interaktion und ausdrucksstarken Soli\, entsteht ein
 e selbstständige und einzigartige Musik.\nBesetzung :Jonas Stuppin - Gitar
 re / KompositionChristina Fuchs - HolzblasinstrumenteFabian Berghofer - E-
 BassStefan Berger - KontrabassThomas Wörle - Schlagwerk
DTSTART:20180831T200000Z
DTEND:20180831T200000Z
GEO:00;0
LOCATION:faberludens\, 54578 Nohn\, Schulstr. 1
ORGANIZER;CN=:mailto:mail@faberludens.de
SEQUENCE:1
SUMMARY:MORPH!
TRANSP:OPAQUE
URL:http://jazztaxi.de/alle-termine/41-morph/2018-08-31-20-00
END:VEVENT
END:VCALENDAR
